Workbook

Sheet Listes
A1: Type contrôle | B1: Nature contrôle | C1: Régime d'inscription | D1: Nature ELP | E1: Mutualisation | F1: Statut | G1: Type | H1: Diplômes
A2: CCI (CC Intégral) | B2: Écrit | C2: Initiale Hors-Apprentissage / Formation Continue / Formation Permanente | D2: UE | E2: Porteuse | F2: Création | G2: Facultatif | H2: Portail
A3: CT (Contrôle terminal) | B3: Oral | C3: Contrat d'Apprentissage/ Contrat de Professionnalisation | D3: ECUE | E3: Portée | F3: Modification | G3: Complémentaire | H3: Double Portail
A4: CC&CT | B4: Écrit/Pratique | D4: BLOC | F4: Fermeture
B5: Rapport/Mémoire | D5: OPTION
B6: Pratique sportive | D6: Parcours Pédagogique
A8: Mention | B8: Codage Diplôme
A9: Sciences et technologie | B9: SPSIT24
A10: Chimie-Sciences de la vie | B10: SLCHI24
A11: Bio-Geo-Sciences | B11: SPSTV24
A12: Sciences de la Vie | B12: SPVIE24
A13: Mathématiques-Sciences de la vie | B13: SPMAV24
A14: Mathématiques-Physique | B14: SPMAP24
A15: Mathématiques-Informatique | B15: SPMAI24
A16: Sciences de la terre-Physique | B16: SPSTP18
A17: Sciences de l'Homme et de la Société | B17: HPSHS18
A18: Lettres Langues Arts et Communication | B18: HPLAC18
A19: Droit | B19: DPDRT18
... A28: Musicologie - Science de l'homme, anthropologie, ethnologie | B28: HPMUE18
A32: Portail_EG | B32: Portail_Droit | C32: Portail_SHS | D32: Portail_LLAC | E32: Portail_ST | F32: Portail_SV | G32: Portail_STAPS
A33: Économie et gestion | B33: Droit | C33: Sciences de l'Homme et de la Société | D33: Lettres Langues Arts et Communication | E33: Sciences et technologie | F33: Sciences de la vie | G33: STAPS
A34: Économie-Sociologie | B34: Capacaité en Droit | C34: Psychologie | D34: Histoire-Lettres | E34: Mathématiques-Sciences de la vie | F34: Chimie-Sciences de la vie
C35: Humanités | D35: Musicologie - Science de l'homme, anthropologie, ethnologie | E35: Mathématiques-Physique | F35: Bio-Geo-Sciences
C36: Philosophie-Psychologie | D36: Philosophie-Droit | E36: Mathématiques-Informatique
E37: Sciences de la terre-Physique
A39: CNU
A40: 01-Droit privé et sciences criminelles
A41: 02-Droit public
A42: 03-Histoire du droit et des institutions
A43: 04-Science politique
A44: 05-Sciences économiques
A45: 06-Sciences de gestion
A46: 07-Sciences du langage : linguistique et phonétique générales
A47: 08-Langues et littératures anciennes
A48: 09-Langue et littérature françaises
A49: 10-Littératures comparées
A50: 11-Langues et littératures anglaises et anglo-saxonnes
... A96: 87-Sciences biologiques pharmaceutiques

Sheet Calcul
A1: Heure Pédagogique | AA1: Heure CM
A3: Semestre 1 | D3: Semestre 2 | G3: Semestre 3 | J3: Semestre 4 | AA3: Semestre 1 | AB3: Semestre 2 | AC3: Semestre 3 | AD3: Semestre 4
A4: Heure CM | B4: Heure TD | C4: Heure TP | D4: Heure CM | E4: Heure TD | F4: Heure TP | G4: Heure CM | H4: Heure TD | I4: Heure TP | J4: Heure CM | K4: Heure TD | L4: Heure TP | AA4: ='S1 Maquette'!I19*1.5 -> 0 | AB4: ='S2 Maquette'!I19*1.5 -> 0 | AC4: ='S3 Maquette'!I19*1.5 -> 0 | AD4: ='S4 Maquette'!I19*1.5 -> 0
A5: =SUM(AA4:AA291) -> 249 | B5: =SUM('S1 Maquette'!J19:J300) -> 128 | C5: =SUM('S1 Maquette'!K19:K300) -> 10 | D5: =SUM(AB4:AB291) -> 216 | E5: =SUM('S2 Maquette'!J19:J300) -> 116 | F5: =SUM('S2 Maquette'!K19:K300) -> 18 | G5: =SUM(AC4:AC291) -> 258 | H5: =SUM('S3 Maquette'!J19:J299) -> 91 | I5: =SUM('S3 Maquette'!K19:K299) -> 196 | J5: =SUM(AD4:AD291) -> 174 | K5: =SUM('S4 Maquette'!J19:J300) -> 118.5 | L5: =SUM('S4 Maquette'!K19:K300) -> 92 | AA5: ='S1 Maquette'!I20*1.5 -> 0 | AB5: ='S2 Maquette'!I20*1.5 -> 0 | AC5: ='S3 Maquette'!I20*1.5 -> 0 | AD5: ='S4 Maquette'!I20*1.5 -> 0
A6: Total | D6: Total | G6: Total | J6: Total | AA6: ='S1 Maquette'!I21*1.5 -> 0 | AB6: ='S2 Maquette'!I21*1.5 -> 0 | AC6: ='S3 Maquette'!I21*1.5 -> 0 | AD6: ='S4 Maquette'!I21*1.5 -> 0
A7: =SUM(A5,B5,C5) -> 387 | D7: =SUM(D5,E5,F5) -> 350 | G7: =SUM(G5,H5,I5) -> 545 | J7: =SUM(J5,K5,L5) -> 384.5 | AA7: ='S1 Maquette'!I22*1.5 -> 0 | AB7: ='S2 Maquette'!I22*1.5 -> 0 | AC7: ='S3 Maquette'!I22*1.5 -> 0 | AD7: ='S4 Maquette'!I22*1.5 -> 0
A8: Total | G8: Total | AA8: ='S1 Maquette'!I23*1.5 -> 0 | AB8: ='S2 Maquette'!I23*1.5 -> 60 | AC8: ='S3 Maquette'!I23*1.5 -> 0 | AD8: ='S4 Maquette'!I23*1.5 -> 0
AA9: ='S1 Maquette'!I24*1.5 -> 30 | AB9: ='S2 Maquette'!I24*1.5 -> 0 | AC9: ='S3 Maquette'!I24*1.5 -> 21 | AD9: ='S4 Maquette'!I24*1.5 -> 33
A10: =SUM(A7,D7) -> 737 | G10: =SUM(G7,J7) -> 929.5 | AA10: ='S1 Maquette'!I25*1.5 -> 12 | AB10: ='S2 Maquette'!I25*1.5 -> 12
AA11: ='S1 Maquette'!I26*1.5 -> 15 | AB11: ='S2 Maquette'!I26*1.5 -> 12 | AD11: ='S4 Maquette'!I26*1.5 -> 0
AA12: ='S1 Maquette'!I27*1.5 -> 0 | AB12: ='S2 Maquette'!I27*1.5 -> 12 | AC12: ='S3 Maquette'!I26*1.5 -> 0 | AD12: ='S4 Maquette'!I27*1.5 -> 21
AA13: ='S1 Maquette'!I28*1.5 -> 12 | AB13: ='S2 Maquette'!I28*1.5 -> 45 | AC13: ='S3 Maquette'!I27*1.5 -> 33 | AD13: ='S4 Maquette'!I28*1.5 -> 27
A14: Heure Porté par la maquette | N14: Mutualisation Porteuse | AA14: ='S1 Maquette'!I29*1.5 -> 15 | AB14: ='S2 Maquette'!I29*1.5 -> 0 | AC14: ='S3 Maquette'!I28*1.5 -> 33 | AD14: ='S4 Maquette'!I29*1.5 -> 45
AA15: ='S1 Maquette'!I30*1.5 -> 39 | AB15: ='S2 Maquette'!I30*1.5 -> 15 | AD15: ='S4 Maquette'!I30*1.5 -> 39
A16: Semestre 1 | D16: Semestre 2 | G16: Semestre 3 | J16: Semestre 4 | N16: Semestre 1 | Q16: Semestre 2 | T16: Semestre 3 | W16: Semestre 4 | AA16: ='S1 Maquette'!I31*1.5 -> 0 | AB16: ='S2 Maquette'!I31*1.5 -> 18 | AD16: ='S4 Maquette'!I31*1.5 -> 9
A17: Heure CM | B17: Heure TD | C17: Heure TP | D17: Heure CM | E17: Heure TD | F17: Heure TP | G17: Heure CM | H17: Heure TD | I17: Heure TP | J17: Heure CM | K17: Heure TD | L17: Heure TP | N17: Heure CM | O17: Heure TD | P17: Heure TP | Q17: Heure CM | R17: Heure TD | S17: Heure TP | T17: Heure CM | U17: Heure TD | V17: Heure TP | W17: Heure CM | X17: Heure TD | Y17: Heure TP | AA17: ='S1 Maquette'!I32*1.5 -> 27 | AB17: ='S2 Maquette'!I32*1.5 -> 42 | AD17: ='S4 Maquette'!I32*1.5 -> 0
A18: =A5-N18 -> 0 | B18: =B5-O18 -> 0 | C18: =C5-P18 -> 0 | D18: =D5-Q18 -> 0 | E18: =E5-R18 -> 0 | F18: =F5-S18 -> 18 | G18: =G5-T18 -> -45 | H18: =H5-U18 -> 6 | ... L18: =L5-Y18 -> 0 | N18: =SUMIF('S1 Maquette'!M19:M300,"Portée",'S1 Maquette'!I19:I300)*1.5 -> 249 | O18: =SUMIF('S1 Maquette'!M19:M300,"Portée",'S1 Maquette'!J19:J300) -> 128 | P18: =SUMIF('S1 Maquette'!M19:M300,"Portée",'S1 Maquette'!K19:K300) -> 10 | Q18: =SUMIF('S2 Maquette'!M19:M300,"Portée",'S2 Maquette'!I19:I300)*1.5 -> 216 | R18: =SUMIF('S2 Maquette'!M19:M300,"Portée",'S2 Maquette'!J19:J300) -> 116 | S18: =SUMIF('S2 Maquette'!M9:M300,"Portée",'S2 Maquette'!K19:K300) -> 0 | T18: =SUMIF('S3 Maquette'!M19:M299,"Portée",'S3 Maquette'!I19:I299)*1.5 -> 303 | U18: =SUMIF('S3 Maquette'!M19:M299,"Portée",'S3 Maquette'!J19:J299) -> 85 | V18: =SUMIF('S3 Maquette'!M19:M299,"Portée",'S3 Maquette'!K19:K299) -> 173 | W18: =SUMIF('S4 Maquette'!M19:M300,"Portée",'S4 Maquette'!I19:I300)*1.5 -> 198 | X18: =SUMIF('S4 Maquette'!M19:M300,"Portée",'S4 Maquette'!J19:J300) -> 118.5 | Y18: =SUMIF('S4 Maquette'!M19:M300,"Portée",'S4 Maquette'!K19:K300) -> 92 | AA18: ='S1 Maquette'!I33*1.5 -> 21 | AB18: ='S2 Maquette'!I33*1.5 -> 0 | AC18: ='S3 Maquette'!I32*1.5 -> 33 | AD18: ='S4 Maquette'!I33*1.5 -> 0
A19: Total | D19: Total | G19: Total | J19: Total | AA19: ='S1 Maquette'!I34*1.5 -> 0 | AB19: ='S2 Maquette'!I34*1.5 -> 0 | AC19: ='S3 Maquette'!I33*1.5 -> 30 | AD19: ='S4 Maquette'!I34*1.5 -> 0
A20: =SUM(A18,B18,C18) -> 0 | D20: =SUM(D18,E18,F18) -> 18 | G20: =SUM(G18,H18,I18) -> -16 | J20: =SUM(J18,K18,L18) -> -24 | AA20: ='S1 Maquette'!I35*1.5 -> 21 | AB20: ='S2 Maquette'!I35*1.5 -> 0 | AC20: ='S3 Maquette'!I34*1.5 -> 0 | AD20: ='S4 Maquette'!I35*1.5 -> 0
A21: Total | G21: Total | AA21: ='S1 Maquette'!I36*1.5 -> 12 | AB21: ='S2 Maquette'!I36*1.5 -> 0 | AC21: ='S3 Maquette'!I35*1.5 -> 21 | AD21: ='S4 Maquette'!I36*1.5 -> 0
A22: =SUM(A20,D20) -> 18 | G22: =SUM(G20,J20) -> -40 | AA22: ='S1 Maquette'!I37*1.5 -> 3 | AB22: ='S2 Maquette'!I37*1.5 -> 0 | AC22: ='S3 Maquette'!I36*1.5 -> 21 | AD22: ='S4 Maquette'!I37*1.5 -> 0
AA23: ='S1 Maquette'!I38*1.5 -> 0 | AB23: ='S2 Maquette'!I38*1.5 -> 0 | AC23: ='S3 Maquette'!I37*1.5 -> 12 | AD23: ='S4 Maquette'!I38*1.5 -> 0
AA24: ='S1 Maquette'!I39*1.5 -> 42 | AB24: ='S2 Maquette'!I39*1.5 -> 0 | AC24: ='S3 Maquette'!I38*1.5 -> 0 | AD24: ='S4 Maquette'!I39*1.5 -> 0
AA25: ='S1 Maquette'!I40*1.5 -> 0 | AB25: ='S2 Maquette'!I40*1.5 -> 0 | AC25: ='S3 Maquette'!I39*1.5 -> 30 | AD25: ='S4 Maquette'!I40*1.5 -> 0
AA26: ='S1 Maquette'!I41*1.5 -> 0 | AB26: ='S2 Maquette'!I41*1.5 -> 0 | AC26: ='S3 Maquette'!I40*1.5 -> 24 | AD26: ='S4 Maquette'!I41*1.5 -> 0
AA27: ='S1 Maquette'!I42*1.5 -> 0 | AB27: ='S2 Maquette'!I42*1.5 -> 0 | AC27: ='S3 Maquette'!I41*1.5 -> 0 | AD27: ='S4 Maquette'!I42*1.5 -> 0
AA28: ='S1 Maquette'!I43*1.5 -> 0 | AB28: ='S2 Maquette'!I43*1.5 -> 0 | AC28: ='S3 Maquette'!I42*1.5 -> 0 | AD28: ='S4 Maquette'!I43*1.5 -> 0
AA29: ='S1 Maquette'!I44*1.5 -> 0 | AB29: ='S2 Maquette'!I44*1.5 -> 0 | AC29: ='S3 Maquette'!I43*1.5 -> 0 | AD29: ='S4 Maquette'!I44*1.5 -> 0
AA30: ='S1 Maquette'!I45*1.5 -> 0 | AB30: ='S2 Maquette'!I45*1.5 -> 0 | AC30: ='S3 Maquette'!I44*1.5 -> 0 | AD30: ='S4 Maquette'!I45*1.5 -> 0
AA31: ='S1 Maquette'!I46*1.5 -> 0 | AB31: ='S2 Maquette'!I46*1.5 -> 0 | AC31: ='S3 Maquette'!I45*1.5 -> 0 | AD31: ='S4 Maquette'!I46*1.5 -> 0
AA32: ='S1 Maquette'!I47*1.5 -> 0 | AB32: ='S2 Maquette'!I47*1.5 -> 0 | AC32: ='S3 Maquette'!I46*1.5 -> 0 | AD32: ='S4 Maquette'!I47*1.5 -> 0
AA33: ='S1 Maquette'!I48*1.5 -> 0 | AB33: ='S2 Maquette'!I48*1.5 -> 0 | AC33: ='S3 Maquette'!I47*1.5 -> 0 | AD33: ='S4 Maquette'!I48*1.5 -> 0
AA34: ='S1 Maquette'!I49*1.5 -> 0 | AB34: ='S2 Maquette'!I49*1.5 -> 0 | AC34: ='S3 Maquette'!I48*1.5 -> 0 | AD34: ='S4 Maquette'!I49*1.5 -> 0
... AA291: ='S1 Maquette'!I306*1.5 -> 0 | AB291: ='S2 Maquette'!I306*1.5 -> 0 | AC291: ='S3 Maquette'!I305*1.5 -> 0 | AD291: ='S4 Maquette'!I306*1.5 -> 0

Sheet Fiche Générale
A1: Type Diplôme : Portail & Double Portail
A2: Types Diplômes | B2: Double Portail
A3: COMPOSANTE | B3: Portail_SV
A4: MENTION | B4: Bio-Geo-Sciences
A5: CODE DIPLÔME | B5: =IFERROR(VLOOKUP(B4,Listes!$A$8:$B$27,2,FALSE),"-") -> SPSTV24
A6: Régime d'inscription | B6: Initiale Hors-Apprentissage / Formation Continue / Formation Permanente
A8: Parcours Type Portail
A9: Parcours Type | B9: Bio-Geo-Sciences
A13: Heures Maquette Année 1 | B13: Heures Valorisées Année 1 | C13: Heures Maquette Année 2 | D13: Heures Valorisées Année 2
A15: =Calcul!A10 -> 737 | B15: =Calcul!A22 -> 18 | C15: =Calcul!G10 -> 929.5 | D15: =Calcul!G22 -> -40
A19: COMPENSATION
A20: Les MCC déterminent le mode de compensation entre UE, semestre et année ainsi que la possibilité d’une note éliminatoire.
A21: Obtention des UE
A22: Voir modalité intraUEs portail Sciences et Technologies pour les UEs de géologie (ST) et Portail Sciences de la Vie pour les UEs de biologie (SV)
A24: Obtention du Semestre
A25: * compensation des UE pour le calcul du semestre : la moyenne des UE de ST+SV doit être supérieure ou egale à 10/20 sans tenir compte des UET (compétences transversales) et en respectant les notes éliminatoires indiquées ci-après.
A26: * les UET doivent être validées indépendemment des autres UEs à 10/20 ou plus.
A27: * en session 2 pour les UE de ST, le calcul du semestre se fera avec la meilleure note entre session 1 et session 2
A28: * en session 2 pour les UE de SV = session 2 + notes CCi éventuellement incluses (au choix du responsable de l'ECUE et/ou UE) si en faveur de la réussite.
A29: * Refus de compensation : l'étudiant.e dispose de 5 jours après la publication des résultats pour refuser la compensation. Dans ce cas, toutes les ECUE non validées au sein d'une UE non validée devront être représentées en session 2
A31: Obtention de l'Année
A32: En L1 : en session 1 et en session 2, pas de compensation entre semestres sauf décision du jury (=avoir 10 de moyenne à chaque semestre (hors UET).
... A63: Arrêté du 22 janvier 2014 fixant le cadre national des formations conduisant à la délivrance des diplômes nationaux de licence, de licence professionnelle et de master

Sheet S1 Maquette
A7: Composante | B7: ='Fiche Générale'!B3 -> Portail_SV | C7: Diplôme | E7: ='Fiche Générale'!B4 -> Bio-Geo-Sciences | G7: Code diplôme | H7: ='Fiche Générale'!B5 -> SPSTV24
C10: Parcours type | E10: ='Fiche Générale'!B9 -> Bio-Geo-Sciences
A13: Année | B13: 1ère année de Portail | C13: Code année | E13: SPBG1 | F13: 400 | G13: Heure Maquette | H13: =Calcul!A7 -> 387
A15: Semestre | B15: Semestre 1 | C15: Code semestre | E15: SPS01BG | G15: Heure Valorisées | H15: =Calcul!A20 -> 0
A18: Niveau | B18: Libellé ELP | C18: Nature ELP | D18: ECTS | E18: Type | F18: Statut | G18: Code Apogée | H18: CNU | I18: Heure CM | J18: Heure TD | K18: Heure TP | L18: Langues | M18: Mutualisation | N18: Formation Porteuse | O18: Observations / Remarques ex: Intervention à titre gracieux / Capacité d'accueil max
A19: 0 | B19: Compétences transversales S1 | C19: UE | D19: 6
A20: 0.1 | B20: Compétences écrites 1 | C20: ECUE
A21: 0.2 | B21: Compétences informationnelles | C21: ECUE
A22: 0.3 | B22: Langue vivante étrangère 1 | C22: ECUE
A23: 1 | B23: Organisation et Mécanismes Moléculaires des cellules eucaryotes | C23: UE | D23: 6 | G23: SPUB100 | N23: PO1 SV | O23: UE proposée au portail SITE : numéro clausus (hors DL) : 25
A24: 1.1 | B24: Biologie Cellulaire | C24: ECUE | G24: SPEB100 | H24: 65-Biologie cellulaire | I24: 20 | J24: 10 | M24: Portée | N24: PO1 SV
A25: 1.2 | B25: Spécificité de la Cellule Végétale | C25: ECUE | G25: SPEB101 | H25: 66-Physiologie | I25: 8 | J25: 6 | M25: Portée | N25: PO1 SV
A26: 1.3 | B26: Biologie Moléculaire | C26: ECUE | G26: SPEB102 | H26: 64-Biochimie et biologie moléculaire | I26: 10 | J26: 6 | M26: Portée | N26: PO1 SV
A27: 2 | B27: Génétique, Evolution, Origine de la vie et Biodiversité | C27: UE | D27: 6 | G27: SPUB101 | N27: PO1 SV | O27: UE proposée au portail SITE : numéro clausus (hors DL) : 25
A28: 2.1 | B28: Génétique Formelle | C28: ECUE | G28: SPEB103 | H28: 64-Biochimie et biologie moléculaire | I28: 8 | J28: 10 | M28: Portée | N28: PO1 SV
A29: 2.2 | B29: Biologie Evolutive | C29: ECUE | G29: SPEB104 | H29: 67-Biologie des populations et écologie | I29: 10 | J29: 8 | M29: Portée | N29: PO1 SV
A30: 2.3 | B30: Ecologie Générale | C30: ECUE | G30: SPEB105 | H30: 67-Biologie des populations et écologie | I30: 26 | M30: Portée | N30: PO1 SV
A31: 3 | B31: Chimie-Biochimie | C31: UE | D31: 6 | G31: SPUB102
A32: 3.1 | B32: Biochimie Structurale | C32: ECUE | G32: SPEB106 | H32: 64-Biochimie et biologie moléculaire | I32: 18 | J32: 12 | K32: 0 | M32: Portée | N32: PO1 SV
A33: 3.2 | B33: Structure des Molécules et Réactions Acides-Bases | C33: ECUE | G33: SPEB107 | H33: 31-Chimie théorique, physique, analytique | I33: 14 | J33: 18 | K33: 0 | M33: Portée | N33: PO1 SV
A34: 4 | B34: Outils pour la biologie 1 | C34: UE | D34: 6 | G34: SPUB103
A35: 4.1 | B35: Statistiques I | C35: ECUE | G35: SPEB108 | H35: 26-Mathématiques appliquées et applications des mathématiques | I35: 14 | J35: 20 | K35: 0 | M35: Portée | N35: PO1 SV
A36: 4.2 | B36: Physique pour la biologie 1 : Optique | C36: ECUE | G36: SPEB109 | H36: 34-Astronomie, astrophysique | I36: 8 | J36: 10 | K36: 0 | M36: Portée | N36: PO1 SV
A37: 4.3 | B37: TP Biologie Expérimentale | C37: ECUE | G37: SPEB110 | H37: 66-Physiologie | I37: 2 | J37: 0 | K37: 10 | M37: Portée | N37: PO1 SV | O37: Taux encadrement en TP : 1 EC pour 15 ET
A38: 4.4 | B38: Math Enjeux 1 | C38: ECUE | G38: SPEME100 | M38: Portée | N38: PO1 SITE | O38: réalisés dans période enjeux 1 (ECUE commune aux licences valrose)
A39: 5 | B39: Introduction aux géosciences | C39: UE | D39: 6 | G39: SPUT100 | H39: 35-Structure et évolution de la Terre et des autres planètes | I39: 28 | J39: 28 | K39: 0 | M39: Portée | N39: PO1 SITE

Sheet S1 MCC
A7: Composante | B7: ='Fiche Générale'!B3 -> Portail_SV | C7: Diplôme | E7: ='Fiche Générale'!B4 -> Bio-Geo-Sciences | G7: Code diplôme | H7: ='Fiche Générale'!B5 -> SPSTV24
C10: Parcours type | E10: ='Fiche Générale'!B9 -> Bio-Geo-Sciences
M12: 1ère session | R12: Seconde Chance
A13: Année | B13: ='S1 Maquette'!B13 -> 1ère année de Portail | D13: Code Année | E13: ='S1 Maquette'!E13 -> SPBG1
M14: Contrôle continu | N14: Contrôle Terminal | P14: Contrôle Final
A15: Semestre | B15: ='S1 Maquette'!B15 -> Semestre 1 | D15: Code Semestre | E15: ='S1 Maquette'!E15:F16 -> SPS01BG
A18: Libellé | B18: Nature | C18: Statut | D18: Coefficient | E18: Notes attendues | F18: Résultat attendu: (ACQ/AJ) | G18: Conservation note | H18: Capitalisable | I18: Compensable | J18: Seuil de compensation /20 | K18: Type de contrôle | L18: Si CC&CT coef du CT | M18: Nbre d'évalution minimum | N18: Nature | O18: Durée | P18: Nature | Q18: Durée | R18: Format d'évaluation | S18: Nature | T18: Durée | U18: Modalités de mise en œuvre | V18: Commentaires
A19: ='S1 Maquette'!B19 -> Compétences transversales S1 | B19: ='S1 Maquette'!C19 -> UE | C19: Modification MCC
A20: ='S1 Maquette'!B20 -> Compétences écrites 1 | B20: ='S1 Maquette'!C20 -> ECUE | C20: Modification MCC
A21: ='S1 Maquette'!B21 -> Compétences informationnelles | B21: ='S1 Maquette'!C21 -> ECUE | C21: Modification MCC
A22: ='S1 Maquette'!B22 -> Langue vivante étrangère 1 | B22: ='S1 Maquette'!C22 -> ECUE | C22: Modification MCC
A23: ='S1 Maquette'!B23 -> Organisation et Mécanismes Moléculaires des cellules eucaryotes | B23: ='S1 Maquette'!C23 -> UE | C23: Modification MCC | E23: OUI | F23: OUI | G23: OUI | H23: OUI | I23: OUI | J23: 8 | K23: CCI (CC Intégral) | M23: 3 | V23: Voir MCC PO1 SV
A24: ='S1 Maquette'!B24 -> Biologie Cellulaire | B24: ='S1 Maquette'!C24 -> ECUE | C24: Modification MCC | D24: 2 | E24: OUI | F24: OUI | G24: OUI | H24: OUI | I24: OUI | J24: 6 | P24: Écrit | Q24: 1h30 | R24: CT (Contrôle terminal) | S24: Écrit | T24: 1h30 | U24: session 1 et 2 : CT sur ordinateur au centre numérique Valrose - selon le nombre d'ordinateurs disponibles et d'étudiants convoqués entre 1 et 3 créneaux d'examen sont nécessaires par session
A25: ='S1 Maquette'!B25 -> Spécificité de la Cellule Végétale | B25: ='S1 Maquette'!C25 -> ECUE | C25: Modification MCC | D25: 1 | E25: OUI | F25: OUI | G25: OUI | H25: OUI | I25: OUI | J25: 6 | P25: Écrit | Q25: 1h | R25: CT (Contrôle terminal) | S25: Écrit | T25: 1h
A26: ='S1 Maquette'!B26 -> Biologie Moléculaire | B26: ='S1 Maquette'!C26 -> ECUE | C26: Modification MCC | D26: 1 | E26: OUI | F26: OUI | G26: OUI | H26: OUI | I26: OUI | J26: 6 | P26: Écrit | Q26: 1h | R26: CT (Contrôle terminal) | S26: Écrit | T26: 1h
A27: ='S1 Maquette'!B27 -> Génétique, Evolution, Origine de la vie et Biodiversité | B27: ='S1 Maquette'!C27 -> UE | C27: Modification MCC | E27: OUI | F27: OUI | G27: OUI | H27: OUI | I27: OUI | J27: 8 | K27: CCI (CC Intégral) | M27: 3 | V27: Voir MCC PO1 SV
A28: ='S1 Maquette'!B28 -> Génétique Formelle | B28: ='S1 Maquette'!C28 -> ECUE | C28: Modification MCC | D28: 1 | E28: OUI | F28: OUI | G28: OUI | H28: OUI | I28: OUI | J28: 6 | P28: Écrit | Q28: 1h30 | R28: CT (Contrôle terminal) | S28: Écrit | T28: 1h30
A29: ='S1 Maquette'!B29 -> Biologie Evolutive | B29: ='S1 Maquette'!C29 -> ECUE | C29: Modification MCC | D29: 1 | E29: OUI | F29: OUI | G29: OUI | H29: OUI | I29: OUI | J29: 6 | P29: Écrit | Q29: 1h | R29: CT (Contrôle terminal) | S29: Écrit | T29: 1h
A30: ='S1 Maquette'!B30 -> Ecologie Générale | B30: ='S1 Maquette'!C30 -> ECUE | C30: Modification MCC | D30: 1 | E30: OUI | F30: OUI | G30: OUI | H30: OUI | I30: OUI | J30: 6 | P30: Écrit | Q30: 1h | R30: CT (Contrôle terminal) | S30: Écrit | T30: 1h | U30: session 1 et 2 : CF et CTsur ordinateur au centre numérique Valrose en présentiel
A31: ='S1 Maquette'!B31 -> Chimie-Biochimie | B31: ='S1 Maquette'!C31 -> UE | C31: Modification MCC | E31: OUI | F31: OUI | G31: OUI | H31: OUI | I31: OUI | J31: 8 | K31: CCI (CC Intégral) | M31: 3 | V31: Voir MCC PO1 SV
A32: ='S1 Maquette'!B32 -> Biochimie Structurale | B32: ='S1 Maquette'!C32 -> ECUE | C32: Modification MCC | D32: 1 | E32: OUI | F32: OUI | G32: OUI | H32: OUI | I32: OUI | J32: 6 | P32: Écrit | Q32: 2h | R32: CT (Contrôle terminal) | S32: Écrit | T32: 2h
A33: ='S1 Maquette'!B33 -> Structure des Molécules et Réactions Acides-Bases | B33: ='S1 Maquette'!C33 -> ECUE | C33: Modification MCC | D33: 1 | E33: OUI | F33: OUI | G33: OUI | H33: OUI | I33: OUI | J33: 6 | P33: Écrit | Q33: 1h30 | R33: CT (Contrôle terminal) | S33: Écrit | T33: 1h30 | U33: session 1 et 2 : CF et CTsur ordinateur au centre numérique Valrose en présentiel OU sur table
A34: ='S1 Maquette'!B34 -> Outils pour la biologie 1 | B34: ='S1 Maquette'!C34 -> UE | C34: Modification MCC | E34: OUI | F34: OUI | G34: OUI | H34: OUI | I34: OUI | J34: 8 | K34: CCI (CC Intégral) | M34: 3 | V34: Voir MCC PO1 SV
A35: ='S1 Maquette'!B35 -> Statistiques I | B35: ='S1 Maquette'!C35 -> ECUE | C35: Modification MCC | D35: 5 | E35: OUI | F35: OUI | G35: OUI | H35: OUI | I35: OUI | J35: 6 | P35: Écrit | Q35: 2h | R35: CT (Contrôle terminal) | S35: Écrit | T35: 1h30
A36: ='S1 Maquette'!B36 -> Physique pour la biologie 1 : Optique | B36: ='S1 Maquette'!C36 -> ECUE | C36: Modification MCC | D36: 3 | E36: OUI | F36: OUI | G36: OUI | H36: OUI | I36: OUI | J36: 6 | P36: Écrit | Q36: 1h30 | R36: CT (Contrôle terminal) | S36: Écrit | T36: 1h30
A37: ='S1 Maquette'!B37 -> TP Biologie Expérimentale | B37: ='S1 Maquette'!C37 -> ECUE | C37: Modification MCC | D37: 2 | E37: OUI | F37: OUI | G37: OUI | H37: OUI | I37: OUI | J37: 6 | P37: Écrit | Q37: 45min | R37: CT (Contrôle terminal) | S37: Écrit | T37: 45 min | U37: CT sur ordinateur en distanciel
A38: ='S1 Maquette'!B38 -> Math Enjeux 1 | B38: ='S1 Maquette'!C38 -> ECUE | C38: Modification MCC | E38: NON | F38: NON | G38: NON | H38: NON | I38: NON
A39: ='S1 Maquette'!B39 -> Introduction aux géosciences | B39: ='S1 Maquette'!C39 -> UE | C39: Modification MCC | E39: OUI | F39: OUI | G39: OUI | H39: OUI | I39: OUI | J39: 8 | K39: CCI (CC Intégral) | P39: Écrit | Q39: 2h | R39: CT (Contrôle terminal) | S39: Écrit | T39: 2h | U39: Seconde chance: Ecrit (2h) ou oral (20 min) selon effectif- la meilleure note de CT (session 1 ou 2) est la note finale du module | V39: Voir MCC PO1 ST
A40: ='S1 Maquette'!B40 -> 0 | B40: ='S1 Maquette'!C40 -> 0 | C40: Modification MCC
A41: ='S1 Maquette'!B41 -> 0 | B41: ='S1 Maquette'!C41 -> 0 | C41: Modification MCC
A42: ='S1 Maquette'!B42 -> 0 | B42: ='S1 Maquette'!C42 -> 0 | C42: Modification MCC
A43: ='S1 Maquette'!B43 -> 0 | B43: ='S1 Maquette'!C43 -> 0 | C43: Modification MCC
A44: ='S1 Maquette'!B44 -> 0 | B44: ='S1 Maquette'!C44 -> 0 | C44: Modification MCC
A45: ='S1 Maquette'!B45 -> 0 | B45: ='S1 Maquette'!C45 -> 0 | C45: Modification MCC
A46: ='S1 Maquette'!B46 -> 0 | B46: ='S1 Maquette'!C46 -> 0 | C46: Modification MCC
A47: ='S1 Maquette'!B47 -> 0 | B47: ='S1 Maquette'!C47 -> 0 | C47: Modification MCC
A48: ='S1 Maquette'!B48 -> 0 | B48: ='S1 Maquette'!C48 -> 0 | C48: Modification MCC
A49: ='S1 Maquette'!B49 -> 0 | B49: ='S1 Maquette'!C49 -> 0 | C49: Modification MCC
A50: ='S1 Maquette'!B50 -> 0 | B50: ='S1 Maquette'!C50 -> 0 | C50: Modification MCC
A51: ='S1 Maquette'!B51 -> 0 | B51: ='S1 Maquette'!C51 -> 0 | C51: Modification MCC
... A300: ='S1 Maquette'!B300 -> 0 | B300: ='S1 Maquette'!C300 -> 0 | C300: Modification MCC

Sheet S2 Maquette
A7: Composante | B7: ='Fiche Générale'!B3 -> Portail_SV | C7: Diplôme | E7: ='Fiche Générale'!B4 -> Bio-Geo-Sciences | G7: Code diplôme | H7: ='Fiche Générale'!B5 -> SPSTV24
C10: Parcours type | E10: ='Fiche Générale'!B9 -> Bio-Geo-Sciences
A13: Année | B13: 1ère année de Portail | C13: Code année | E13: SPBG1 | F13: 400 | G13: Heure Maquette | H13: =Calcul!A7 -> 387
A15: Semestre | B15: Semestre 1 | C15: Code semestre | E15: SPS02BG | G15: Heure Valorisées | H15: =Calcul!A20 -> 0
A18: Niveau | B18: Libellé ELP | C18: Nature ELP | D18: ECTS | E18: Type | F18: Statut | G18: Code Apogée | H18: CNU | I18: Heure CM | J18: Heure TD | K18: Heure TP | L18: Langues | M18: Mutualisation | N18: Formation Porteuse | O18: Observations / Remarques ex: Intervention à titre gracieux / Capacité d'accueil max
A19: 0 | B19: Compétences transversales S2 | C19: UE | D19: 6
A20: 0.1 | B20: Compétences numériques 1 | C20: ECUE
A21: 0.2 | B21: Compétences pré-professionnalisation 1 | C21: ECUE
A22: 0.3 | B22: Anglais 2 | C22: ECUE
A23: 1 | B23: Diversité du Vivant | C23: UE | D23: 6 | G23: SPUB201 | H23: 67-Biologie des populations et écologie | I23: 40 | K23: 18 | M23: Portée | N23: PO1 SV | O23: UE proposée au portail SITE : numéro clausus (hors DL) : 25 - Taux encadrement TP : 1 EC pour 20 ET
A24: 2 | B24: Cinétique et Thermodynamique | C24: UE | D24: 6 | G24: SPUB202
A25: 2.1 | B25: Cinétique Chimique et équilibre | C25: ECUE | G25: SPEB202 | I25: 8 | J25: 10 | M25: Portée | N25: PO1 SV | O25: Section CNU ?? (département chimie)
A26: 2.2 | B26: Thermodynamique chimique | C26: ECUE | G26: SPEB203 | I26: 8 | J26: 12 | M26: Portée | N26: PO1 SV | O26: Section CNU ?? (département chimie)
A27: 2.3 | B27: Thermodynamique Physique | C27: ECUE | G27: SPEB204 | H27: 28-Milieux denses et matériaux | I27: 8 | J27: 12 | M27: Portée | N27: PO1 SV
A28: 3 | B28: Structure et dynamique de la terre 1 | C28: UE | D28: 6 | G28: SPUT200 | H28: 35-Structure et évolution de la Terre et des autres planètes | I28: 30 | J28: 30 | M28: Portée | N28: PO1 SITE
A29: 4 | B29: Outils pour la biologie 2 | C29: UE | D29: 6 | G29: SPUB203
A30: 4.1 | B30: Analyse et Modélisation | C30: ECUE | G30: SPEB205 | H30: 26-Mathématiques appliquées et applications des mathématiques | I30: 10 | J30: 12 | M30: Portée | N30: PO1 SV
A31: 4.2 | B31: Mécanique pour la biologie | C31: ECUE | G31: SPEB207 | H31: 60-Mécanique, génie mécanique, génie civil | I31: 12 | J31: 12 | M31: Portée | N31: PO1 SV
A32: 5 | B32: Atmosphère, océan et Climat | C32: UE | D32: 6 | G32: SPUT201 | H32: 35-Structure et évolution de la Terre et des autres planètes | I32: 28 | J32: 28 | M32: Portée | N32: Portail SITE

Sheet S2 MCC
A7: Composante | B7: ='Fiche Générale'!B3 -> Portail_SV | C7: Diplôme | E7: ='Fiche Générale'!B4 -> Bio-Geo-Sciences | G7: Code diplôme | H7: ='Fiche Générale'!B5 -> SPSTV24
C10: Parcours type | E10: ='Fiche Générale'!B9 -> Bio-Geo-Sciences
M12: 1ère session | R12: Seconde Chance
A13: Année | B13: ='S2 Maquette'!B13 -> 1ère année de Portail | D13: Code Année | E13: ='S2 Maquette'!E13 -> SPBG1
M14: Contrôle continu | N14: Contrôle Terminal | P14: Contrôle Final
A15: Semestre | B15: ='S2 Maquette'!B15 -> Semestre 1 | D15: Code Semestre | E15: ='S2 Maquette'!E15:F16 -> SPS02BG
A18: Libellé | B18: Nature | C18: Statut | D18: Coefficient | E18: Notes attendues | F18: Résultat attendu: (ACQ/AJ) | G18: Conservation note | H18: Capitalisable | I18: Compensable | J18: Seuil de compensation /20 | K18: Type de contrôle | L18: Si CC&CT coef du CT | M18: Nbre d'évalution minimum | N18: Nature | O18: Durée | P18: Nature | Q18: Durée | R18: Format d'évaluation | S18: Nature | T18: Durée | U18: Modalités de mise en œuvre | V18: Commentaires
A19: ='S2 Maquette'!B19 -> Compétences transversales S2 | B19: ='S2 Maquette'!C19 -> UE | C19: ='S2 Maquette'!F19 -> 0
A20: ='S2 Maquette'!B20 -> Compétences numériques 1 | B20: ='S2 Maquette'!C20 -> ECUE | C20: ='S2 Maquette'!F20 -> 0
A21: ='S2 Maquette'!B21 -> Compétences pré-professionnalisation 1 | B21: ='S2 Maquette'!C21 -> ECUE | C21: ='S2 Maquette'!F21 -> 0
A22: ='S2 Maquette'!B22 -> Anglais 2 | B22: ='S2 Maquette'!C22 -> ECUE | C22: ='S2 Maquette'!F22 -> 0
A23: ='S2 Maquette'!B23 -> Diversité du Vivant | B23: ='S2 Maquette'!C23 -> UE | C23: Modification MCC | D23: 1 | E23: OUI | F23: OUI | G23: OUI | H23: OUI | I23: OUI | J23: 8 | K23: CCI (CC Intégral) | M23: 2 | P23: Écrit | Q23: 2 CF : 1h chacun | R23: CT (Contrôle terminal) | S23: Écrit | T23: 1h30 | V23: CT session 1 et 2 : sur ordinateur au centre numérique Valrose - CT1 et CT2 de la session 1 à 15 jours d'intervalles | W23: Voir MCC PO1 SV
A24: ='S2 Maquette'!B24 -> Cinétique et Thermodynamique | B24: ='S2 Maquette'!C24 -> UE | C24: Modification MCC | D24: 1 | E24: OUI | F24: OUI | G24: OUI | H24: OUI | I24: OUI | J24: 8 | K24: CCI (CC Intégral) | M24: 3 | V24: Voir MCC PO1 SV
A25: ='S2 Maquette'!B25 -> Cinétique Chimique et équilibre | B25: ='S2 Maquette'!C25 -> ECUE | C25: Modification MCC | D25: 1 | E25: OUI | F25: OUI | G25: OUI | H25: OUI | I25: OUI | J25: 6 | P25: Écrit | Q25: 2h | R25: CT (Contrôle terminal) | S25: Écrit | T25: 2h
A26: ='S2 Maquette'!B26 -> Thermodynamique chimique | B26: ='S2 Maquette'!C26 -> ECUE | C26: Modification MCC | D26: 1 | E26: OUI | F26: OUI | G26: OUI | H26: OUI | I26: OUI | J26: 6 | P26: Écrit | Q26: 2h | R26: CT (Contrôle terminal) | S26: Écrit | T26: 2h
A27: ='S2 Maquette'!B27 -> Thermodynamique Physique | B27: ='S2 Maquette'!C27 -> ECUE | C27: Modification MCC | D27: 1 | E27: OUI | F27: OUI | G27: OUI | H27: OUI | I27: OUI | J27: 6 | P27: Écrit | Q27: 2h | R27: CT (Contrôle terminal) | S27: Écrit | T27: 2h
A28: ='S2 Maquette'!B28 -> Structure et dynamique de la terre 1 | B28: ='S2 Maquette'!C28 -> UE | C28: Modification MCC | D28: 1 | E28: OUI | F28: OUI | G28: OUI | H28: OUI | I28: OUI | J28: 8 | K28: CCI (CC Intégral) | M28: 2 | O28: 2h | P28: Écrit | Q28: 2h | R28: CT (Contrôle terminal) | S28: Écrit | T28: 2h | V28: Seconde chance: Ecrit (2h) ou oral (20 min) selon effectif- la meilleure note de CT (session 1 ou 2) est la note finale du module | W28: Voir MCC PO1 ST
A29: ='S2 Maquette'!B29 -> Outils pour la biologie 2 | B29: ='S2 Maquette'!C29 -> UE | C29: Modification MCC | D29: 1 | E29: OUI | F29: OUI | G29: OUI | H29: OUI | I29: OUI | J29: 8 | K29: CCI (CC Intégral) | M29: 3 | W29: Voir MCC PO1 SV
A30: ='S2 Maquette'!B30 -> Analyse et Modélisation | B30: ='S2 Maquette'!C30 -> ECUE | C30: Modification MCC | D30: 1 | E30: OUI | F30: OUI | G30: OUI | H30: OUI | I30: OUI | J30: 6 | P30: Écrit | Q30: 2h | R30: CT (Contrôle terminal) | S30: Écrit | T30: 2h
A31: ='S2 Maquette'!B31 -> Mécanique pour la biologie | B31: ='S2 Maquette'!C31 -> ECUE | C31: Modification MCC | D31: 1 | E31: OUI | F31: OUI | G31: OUI | H31: OUI | I31: OUI | J31: 6 | P31: Écrit | Q31: 1h | R31: CT (Contrôle terminal) | S31: Écrit | T31: 1h
A32: ='S2 Maquette'!B32 -> Atmosphère, océan et Climat | B32: ='S2 Maquette'!C32 -> UE | C32: Modification MCC | D32: 1 | E32: OUI | F32: OUI | G32: OUI | H32: OUI | I32: OUI | J32: 8 | K32: CCI (CC Intégral) | M32: 2 | O32: 2h | P32: Écrit | Q32: 2h | R32: CT (Contrôle terminal) | S32: Écrit | T32: 2h | V32: Seconde chance: Ecrit (2h) ou oral (20 min) selon effectif- la meilleure note de CT (session 1 ou 2) est la note finale du module | W32: Voir MCC PO1 ST
A33: ='S2 Maquette'!B33 -> 0 | B33: ='S2 Maquette'!C33 -> 0 | C33: Modification MCC
A34: ='S2 Maquette'!B34 -> 0 | B34: ='S2 Maquette'!C34 -> 0 | C34: Modification MCC
A35: ='S2 Maquette'!B35 -> 0 | B35: ='S2 Maquette'!C35 -> 0 | C35: Modification MCC
A36: ='S2 Maquette'!B36 -> 0 | B36: ='S2 Maquette'!C36 -> 0 | C36: Modification MCC
A37: ='S2 Maquette'!B37 -> 0 | B37: ='S2 Maquette'!C37 -> 0 | C37: Modification MCC
A38: ='S2 Maquette'!B38 -> 0 | B38: ='S2 Maquette'!C38 -> 0 | C38: Modification MCC
A39: ='S2 Maquette'!B39 -> 0 | B39: ='S2 Maquette'!C39 -> 0 | C39: Modification MCC
A40: ='S2 Maquette'!B40 -> 0 | B40: ='S2 Maquette'!C40 -> 0 | C40: Modification MCC
A41: ='S2 Maquette'!B41 -> 0 | B41: ='S2 Maquette'!C41 -> 0 | C41: Modification MCC
A42: ='S2 Maquette'!B42 -> 0 | B42: ='S2 Maquette'!C42 -> 0 | C42: Modification MCC
A43: ='S2 Maquette'!B43 -> 0 | B43: ='S2 Maquette'!C43 -> 0 | C43: Modification MCC
A44: ='S2 Maquette'!B44 -> 0 | B44: ='S2 Maquette'!C44 -> 0 | C44: Modification MCC
... A300: ='S2 Maquette'!B300 -> 0 | B300: ='S2 Maquette'!C300 -> 0 | C300: Modification MCC

Sheet S3 Maquette
A7: Composante | B7: ='Fiche Générale'!B3 -> Portail_SV | C7: Diplôme | E7: ='Fiche Générale'!B4 -> Bio-Geo-Sciences | G7: Code diplôme | H7: ='Fiche Générale'!B5 -> SPSTV24
C10: Parcours type | E10: ='Fiche Générale'!B9 -> Bio-Geo-Sciences
A13: Année | B13: 2ème année de Portail | C13: Code année | E13: SPBG2 | F13: 400 | G13: Heures Maquette | H13: =Calcul!G7 -> 545
A15: Semestre | B15: Semestre 3 | C15: Code semestre | E15: SPS03BG | G15: Heures Valorisées | H15: =Calcul!G20 -> -16
A18: Niveau | B18: Libellé ELP | C18: Nature ELP | D18: ECTS | E18: Type | F18: Statut | G18: Code Apogée | H18: CNU | I18: Heure CM | J18: Heure TD | K18: Heure TP | L18: Langues | M18: Mutualisation | N18: Formation Porteuse | O18: Observations / Remarques ex: Intervention à titre gracieux / Capacité d'accueil max
A19: 0 | B19: Compétences transversales S3 | C19: UE | D19: 6
A20: 0.1 | B20: Compétences informationnelles 2 | C20: ECUE
A21: 0.2 | B21: Compétences pré-professionnalisation 2 | C21: ECUE
A22: 0.3 | B22: Anglais 3 | C22: ECUE
A23: 1 | B23: Physiologie Animale et Biochimie | C23: UE | D23: 6 | F23: Création | M23: Portée | N23: PO2 SV | O23: creation et réassociation 2 ECUE de PO2 SV
A24: 1.1 | B24: Physiologie Cellulaire Animale | C24: ECUE | G24: SPEB300 | H24: 66-Physiologie | I24: 14 | J24: 8 | K24: 16 | M24: Portée | N24: PO2 SV | O24: Taux encadrement TP : 1 EC pour 15 ET
A25: 1.2 | B25: Biochimie Métabolique | C25: ECUE | G25: SPEB306 | H25: 64-Biochimie et biologie moléculaire | I25: 16 | J25: 10 | K25: 12 | M25: Portée | N25: PO2 SV | O25: Taux encadrement TP : 1 EC pour 15 ET
A26: 2 | B26: Mode d'organisation du vivant | C26: UE | D26: 6 | G26: SPUB301
A27: 2.1 | B27: Organisation du Vivant Animal | C27: ECUE | G27: SPEB303 | H27: 68-Biologie des organismes | I27: 22 | K27: 15 | M27: Portée | N27: PO2 SV | O27: Taux encadrement TP : 1 EC pour 15 ET
A28: 2.2 | B28: Organisation du Vivant Végétal | C28: ECUE | G28: SPEB304 | H28: 68-Biologie des organismes | I28: 22 | J28: 2 | K28: 12 | M28: Portée | N28: PO2 SV | O28: Taux encadrement TP : 1 EC pour 15 ET
A29: 3 | B29: Informatique et Tectonique | C29: UE | D29: 6 | F29: Création | O29: création et association 1 ECUE PO2 SV + 1 ECUE PO2 ST
A30: 3.1 | B30: Tectonique | C30: ECUE | F30: Création | H30: 35-Structure et évolution de la Terre et des autres planètes | I30: 8 | J30: 6 | K30: 23 | N30: PO2ST | O30: mutualisée avec L2ST : 14h de terrain et 9 h de TP
A31: 3.2 | B31: Introduction à l'informatique | C31: ECUE | G31: SPEB307 | H31: 27-Informatique | I31: 14 | K31: 20 | M31: Portée | N31: PO2 SV | O31: TP en salle informatique, taux encadrement TP : 1EC pour 20 ET
A32: 4 | B32: Pétrologie et Géochimie 1 | C32: UE | D32: 6 | G32: SPUT300 | H32: 35-Structure et évolution de la Terre et des autres planètes | I32: 22 | J32: 8 | K32: 30 | M32: Portée | N32: PO2 Sciences de la Terre | O32: Mutualisasition avec DL BGS et ST-P et L2SVT (2D)
A33: 5 | B33: Sédimentologie et Paléoenvironnement | C33: UE | D33: 6 | G33: SPUT301 | H33: 35-Structure et évolution de la Terre et des autres planètes | I33: 20 | J33: 21 | K33: 20 | M33: Portée | N33: PO2 Sciences de la Terre | O33: 7h de TD parmi les 21 concernent une sortie Terrain - Mutualisasition avec DL BGS et L2SVT (2D)
A34: 1 | B34: Physiologie Animale | C34: UE | D34: 6 | F34: Fermeture | G34: SPUB305 | M34: Portée | N34: PO2 SV
A35: 1.1 | B35: Physiologie Cellulaire Animale | C35: ECUE | F35: Fermeture | G35: SPEB300 | H35: 66-Physiologie | I35: 14 | J35: 8 | K35: 16 | M35: Portée | N35: PO2 SV | O35: Taux encadrement TP : 1 EC pour 15 ET
A36: 1.2 | B36: Introduction à l'informatique | C36: ECUE | F36: Fermeture | G36: SPEB307 | H36: 27-Informatique | I36: 14 | K36: 20 | M36: Portée | N36: PO2 SV | O36: TP en salle informatique, taux encadrement TP : 1EC pour 20 ET
A37: 1.3 | B37: Immunologie | C37: ECUE | F37: Fermeture | G37: SPEB302 | H37: 66-Physiologie | I37: 8 | J37: 4 | M37: Portée | N37: PO2 SV
A38: 3 | B38: Chimie-Biochimie du Vivant | C38: UE | D38: 6 | F38: Fermeture | G38: SPUB302
A39: 3.1 | B39: Chimie Biologique | C39: ECUE | F39: Fermeture | G39: SPEB305 | H39: 32-Chimie organique, minérale, industrielle | I39: 20 | J39: 14 | M39: Portée | N39: PO2 SV
A40: 3.2 | B40: Biochimie Métabolique | C40: ECUE | F40: Fermeture | G40: SPEB306 | H40: 64-Biochimie et biologie moléculaire | I40: 16 | J40: 10 | K40: 12 | M40: Portée | N40: PO2 SV | O40: Taux encadrement TP : 1 EC pour 15 ET

Sheet S3 MCC
A7: Composante | B7: ='Fiche Générale'!B3 -> Portail_SV | C7: Diplôme | E7: ='Fiche Générale'!B4 -> Bio-Geo-Sciences | G7: Code diplôme | H7: ='Fiche Générale'!B5 -> SPSTV24
C10: Parcours type | E10: ='Fiche Générale'!B9 -> Bio-Geo-Sciences
M12: 1ère session | R12: Seconde Chance
A13: Année | B13: ='S3 Maquette'!B13 -> 2ème année de Portail | D13: Code Année | E13: ='S3 Maquette'!E13 -> SPBG2
M14: Contrôle continu | N14: Contrôle Terminal | P14: Contrôle Final
A15: Semestre | B15: ='S3 Maquette'!B15 -> Semestre 3 | D15: Code Semestre | E15: ='S3 Maquette'!E15:F16 -> SPS03BG
A18: Libellé | B18: Nature | C18: Statut | D18: Coefficient | E18: Notes attendues | F18: Résultat attendu: (ACQ/AJ) | G18: Conservation note | H18: Capitalisable | I18: Compensable | J18: Seuil de compensation /20 | K18: Type de contrôle | L18: Si CC&CT coef du CT | M18: Nbre d'évalution minimum | N18: Nature | O18: Durée | P18: Nature | Q18: Durée | R18: Format d'évaluation | S18: Nature | T18: Durée | U18: Modalités de mise en œuvre | V18: Commentaires
A19: ='S3 Maquette'!B19 -> Compétences transversales S3 | B19: ='S3 Maquette'!C19 -> UE | C19: Modification MCC
A20: ='S3 Maquette'!B20 -> Compétences informationnelles 2 | B20: ='S3 Maquette'!C20 -> ECUE | C20: Modification MCC
A21: ='S3 Maquette'!B21 -> Compétences pré-professionnalisation 2 | B21: ='S3 Maquette'!C21 -> ECUE | C21: Modification MCC
A22: ='S3 Maquette'!B22 -> Anglais 3 | B22: ='S3 Maquette'!C22 -> ECUE | C22: Modification MCC
A23: ='S3 Maquette'!B23 -> Physiologie Animale et Biochimie | B23: ='S3 Maquette'!C23 -> UE | C23: Modification MCC | E23: OUI | F23: OUI | G23: OUI | H23: OUI | I23: OUI | J23: 6 | K23: CCI (CC Intégral) | M23: 2
A24: ='S3 Maquette'!B24 -> Physiologie Cellulaire Animale | B24: ='S3 Maquette'!C24 -> ECUE | C24: Modification MCC | D24: 1 | E24: OUI | F24: OUI | G24: OUI | H24: OUI | I24: OUI | P24: Écrit | Q24: 2h | R24: CT (Contrôle terminal) | S24: Écrit | T24: 2h | V24: Voir MCC PO1 ST
A25: ='S3 Maquette'!B25 -> Biochimie Métabolique | B25: ='S3 Maquette'!C25 -> ECUE | C25: Modification MCC | D25: 1 | E25: OUI | F25: OUI | G25: OUI | H25: OUI | I25: OUI | P25: Écrit | Q25: 2h | R25: CT (Contrôle terminal) | S25: Écrit | T25: 1h30 | V25: Voir MCC PO1 ST
A26: ='S3 Maquette'!B26 -> Mode d'organisation du vivant | B26: ='S3 Maquette'!C26 -> UE | C26: Modification MCC | E26: OUI | F26: OUI | G26: OUI | H26: OUI | I26: OUI | J26: 6 | K26: CCI (CC Intégral) | M26: 4 | V26: Voir MCC PO1 ST
A27: ='S3 Maquette'!B27 -> Organisation du Vivant Animal | B27: ='S3 Maquette'!C27 -> ECUE | C27: Modification MCC | D27: 1 | E27: OUI | F27: OUI | G27: OUI | H27: OUI | I27: OUI | P27: Écrit | Q27: 2h30 | R27: CT (Contrôle terminal) | S27: Écrit | T27: 2h | V27: Voir MCC PO1 ST
A28: ='S3 Maquette'!B28 -> Organisation du Vivant Végétal | B28: ='S3 Maquette'!C28 -> ECUE | C28: Modification MCC | D28: 1 | E28: OUI | F28: OUI | G28: OUI | H28: OUI | I28: OUI | P28: Écrit | Q28: 2h | R28: CT (Contrôle terminal) | S28: Écrit | T28: 2h | V28: Voir MCC PO1 ST
A29: Informatique et Tectonique | B29: UE | C29: Modification MCC | E29: OUI | F29: OUI | G29: OUI | H29: OUI | I29: OUI | J29: 6 | K29: CCI (CC Intégral) | M29: 2
A30: Tectonique | B30: ECUE | C30: Modification MCC | D30: 1 | E30: OUI | F30: OUI | G30: OUI | H30: OUI | I30: OUI | V30: Voir MCC L1-L2 S&T
A31: ='S3 Maquette'!B31 -> Introduction à l'informatique | B31: ='S3 Maquette'!C30 -> ECUE | C31: Modification MCC | D31: 1 | E31: OUI | F31: OUI | G31: OUI | H31: OUI | I31: OUI | P31: Écrit | Q31: 2h | R31: CT (Contrôle terminal) | S31: Écrit | T31: 2h | V31: Voir MCC PO1 ST
A32: ='S3 Maquette'!B32 -> Pétrologie et Géochimie 1 | B32: ='S3 Maquette'!C32 -> UE | C32: Modification MCC | E32: OUI | F32: OUI | G32: OUI | H32: OUI | I32: OUI | K32: CC&CT | L32: 0.5 | M32: 3 | N32: Écrit | O32: 3h | R32: CT (Contrôle terminal) | S32: Écrit | T32: 2h | V32: Voir MCC L1-L2 S&T
A33: ='S3 Maquette'!B33 -> Sédimentologie et Paléoenvironnement | B33: ='S3 Maquette'!C33 -> UE | C33: Modification MCC | E33: OUI | F33: OUI | G33: OUI | H33: OUI | I33: OUI | K33: CC&CT | L33: 0.5 | M33: 3 | N33: Écrit | O33: 3h | R33: CT (Contrôle terminal) | S33: Écrit | T33: 2h | V33: Voir MCC L1-L2 S&T
A34: ='S3 Maquette'!B34 -> Physiologie Animale | B34: ='S3 Maquette'!C34 -> UE | C34: Modification MCC
A35: ='S3 Maquette'!B35 -> Physiologie Cellulaire Animale | B35: ='S3 Maquette'!C35 -> ECUE | C35: Modification MCC
A36: ='S3 Maquette'!B36 -> Introduction à l'informatique | B36: ='S3 Maquette'!C36 -> ECUE | C36: Modification MCC
A37: ='S3 Maquette'!B37 -> Immunologie | B37: ='S3 Maquette'!C37 -> ECUE | C37: Modification MCC
A38: ='S3 Maquette'!B38 -> Chimie-Biochimie du Vivant | B38: ='S3 Maquette'!C38 -> UE | C38: Modification MCC
A39: ='S3 Maquette'!B39 -> Chimie Biologique | B39: ='S3 Maquette'!C39 -> ECUE | C39: Modification MCC
A40: ='S3 Maquette'!B40 -> Biochimie Métabolique | B40: ='S3 Maquette'!C40 -> ECUE | C40: Modification MCC
A41: ='S3 Maquette'!B41 -> 0 | B41: ='S3 Maquette'!C41 -> 0 | C41: Modification MCC
A42: ='S3 Maquette'!B42 -> 0 | B42: ='S3 Maquette'!C42 -> 0 | C42: Modification MCC
A43: ='S3 Maquette'!B43 -> 0 | B43: ='S3 Maquette'!C43 -> 0 | C43: Modification MCC
A44: ='S3 Maquette'!B44 -> 0 | B44: ='S3 Maquette'!C44 -> 0 | C44: Modification MCC
A45: ='S3 Maquette'!B45 -> 0 | B45: ='S3 Maquette'!C45 -> 0 | C45: Modification MCC
... A299: ='S3 Maquette'!B299 -> 0 | B299: ='S3 Maquette'!C299 -> 0 | C299: Modification MCC

Sheet S4 Maquette
A7: Composante | B7: ='Fiche Générale'!B3 -> Portail_SV | C7: Diplôme | E7: ='Fiche Générale'!B4 -> Bio-Geo-Sciences | G7: Code diplôme | H7: ='Fiche Générale'!B5 -> SPSTV24
C10: Parcours type | E10: ='Fiche Générale'!B9 -> Bio-Geo-Sciences
A13: Année | B13: ='S3 Maquette'!B13 -> 2ème année de Portail | C13: Code année | E13: SPBG2 | F13: 400 | G13: Heures Maquette | H13: =Calcul!J7 -> 384.5
A15: Semestre | B15: Semestre 4 | C15: Code semestre | E15: SPS04BG | G15: Heures Valorisées | H15: =Calcul!J20 -> -24
A18: Niveau | B18: Libellé ELP | C18: Nature ELP | D18: ECTS | E18: Type | F18: Statut | G18: Code Apogée | H18: CNU | I18: Heure CM | J18: Heure TD | K18: Heure TP | L18: Langues | M18: Mutualisation | N18: Formation Porteuse | O18: Observations / Remarques ex: Intervention à titre gracieux / Capacité d'accueil max
A19: 0 | B19: Compétences transversales S4 | C19: UE | D19: 6
A20: 0.1 | B20: Compétences écrites 2 | C20: ECUE
A21: 0.2 | B21: Compétences numériques 2 | C21: ECUE
A22: 0.3 | B22: Anglais 4 | C22: ECUE
A23: 1 | B23: Microbiologie et Génie Génétique des populations | C23: UE | D23: 6 | G23: SPUB406
A24: 1.1 | B24: Microbiologie ; Bactériologie, Virologie et Génétique bactérienne | C24: ECUE | G24: SPEB402 | H24: 66-Physiologie | I24: 22 | J24: 14 | K24: 8 | M24: Portée | N24: PO2 SV | O24: Taux encadrement TP : 1EC pour 15 ET
A25: 1.2 | B25: Génétique des populations | C25: ECUE | G25: SPEB414 | H25: 67-Biologie des populations et écologie | I25: 16 | J25: 14 | K25: 2 | M25: Portée | N25: PO2 SV | O25: TP en salle informatique (1 EC pour 18 ET)
A26: 2 | B26: Physiologie et Métabolisme des Végétaux | C26: UE | D26: 6 | G26: SPUB402
A27: 2.1 | B27: Nutrition hydrique et minérale | C27: ECUE | G27: SPEB404 | H27: 66-Physiologie | I27: 14 | J27: 10 | K27: 12 | M27: Portée | N27: PO2 SV | O27: Taux encadrement TP : 1EC pour 15 ET
A28: 2.2 | B28: Photosynthèse et métabolisme secondaire | C28: ECUE | G28: SPEB405 | H28: 66-Physiologie | I28: 18 | J28: 10 | K28: 8 | M28: Portée | N28: PO2 SV | O28: Taux encadrement TP : 1EC pour 15 ET
A29: 3 | B29: UE TERRE : Géodynamique et grands ensembles géologiques | C29: UE | D29: 6 | G29: SPUT401 | H29: 35-Structure et évolution de la Terre et des autres planètes | I29: 30 | J29: 30 | M29: Portée | N29: PO2 Sciences de la Terre | O29: Mutualisation L-ST
A30: 4 | B30: UE TERRE : Géomorphologie Télédétection et SIG | C30: UE | D30: 6 | G30: SPUT402 | H30: 35-Structure et évolution de la Terre et des autres planètes | I30: 26 | J30: 16.5 | K30: 27 | M30: Portée | N30: PO2 Sciences de la Terre | O30: 14h Terrain dans les 27h de TP - Mutualisation DL BGS et ST-P
A31: 5 | B31: Cartographie | C31: UE | D31: 6 | G31: SPUT403 | H31: 35-Structure et évolution de la Terre et des autres planètes | I31: 6 | J31: 24 | K31: 35 | M31: Portée | N31: PO2 Sciences de la Terre | O31: Mutualisation L-ST - Les 35h de TP sont des sorties terrain à la journée (5 jours)

Sheet S4 MCC
A7: Composante | B7: ='Fiche Générale'!B3 -> Portail_SV | C7: Diplôme | E7: ='Fiche Générale'!B4 -> Bio-Geo-Sciences | G7: Code diplôme | H7: ='Fiche Générale'!B5 -> SPSTV24
C10: Parcours type | E10: ='Fiche Générale'!B9 -> Bio-Geo-Sciences
M12: 1ère session | R12: Seconde Chance
A13: Année | B13: ='S4 Maquette'!B13 -> 2ème année de Portail | D13: Code Année | E13: ='S4 Maquette'!E13 -> SPBG2
M14: Contrôle continu | N14: Contrôle Terminal | P14: Contrôle Final
A15: Semestre | B15: ='S4 Maquette'!B15 -> Semestre 4 | D15: Code Semestre | E15: ='S4 Maquette'!E15:F16 -> SPS04BG
A18: Libellé | B18: Nature | C18: Statut | D18: Coefficient | E18: Notes attendues | F18: Résultat attendu: (ACQ/AJ) | G18: Conservation note | H18: Capitalisable | I18: Compensable | J18: Seuil de compensation / 20 | K18: Type de contrôle | L18: Si CC&CT coef du CT | M18: Nbre d'évalution minimum | N18: Nature | O18: Durée | P18: Nature | Q18: Durée | R18: Format d'évaluation | S18: Nature | T18: Durée | U18: Modalités de mise en œuvre | V18: Commentaires
A19: ='S4 Maquette'!B19 -> Compétences transversales S4 | B19: ='S4 Maquette'!C19 -> UE | C19: Modification MCC
A20: ='S4 Maquette'!B20 -> Compétences écrites 2 | B20: ='S4 Maquette'!C20 -> ECUE | C20: Modification MCC
A21: ='S4 Maquette'!B21 -> Compétences numériques 2 | B21: ='S4 Maquette'!C21 -> ECUE | C21: Modification MCC
A22: ='S4 Maquette'!B22 -> Anglais 4 | B22: ='S4 Maquette'!C22 -> ECUE | C22: Modification MCC
A23: ='S4 Maquette'!B23 -> Microbiologie et Génie Génétique des populations | B23: ='S4 Maquette'!C23 -> UE | C23: Modification MCC | E23: OUI | F23: OUI | G23: OUI | H23: OUI | I23: OUI | J23: 6 | K23: CCI (CC Intégral) | M23: 3 | V23: Voir MCC PO2 SV
A24: ='S4 Maquette'!B24 -> Microbiologie ; Bactériologie, Virologie et Génétique bactérienne | B24: ='S4 Maquette'!C24 -> ECUE | C24: Modification MCC | D24: 1 | E24: OUI | F24: OUI | G24: OUI | H24: OUI | I24: OUI | P24: Écrit | Q24: 2h | R24: CT (Contrôle terminal) | S24: Écrit | T24: 2h | V24: Voir MCC PO2 SV
A25: Génétique des populations | B25: ='S4 Maquette'!C25 -> ECUE | C25: Modification MCC | D25: 1 | E25: OUI | F25: OUI | G25: OUI | H25: OUI | I25: OUI | P25: Écrit | Q25: 2h | R25: CT (Contrôle terminal) | S25: Écrit | T25: 2h | V25: Voir MCC PO2 SV
A26: ='S4 Maquette'!B26 -> Physiologie et Métabolisme des Végétaux | B26: ='S4 Maquette'!C26 -> UE | C26: Modification MCC | E26: OUI | F26: OUI | G26: OUI | H26: OUI | I26: OUI | J26: 6 | K26: CCI (CC Intégral) | V26: Voir MCC PO2 SV
A27: ='S4 Maquette'!B27 -> Nutrition hydrique et minérale | B27: ='S4 Maquette'!C27 -> ECUE | C27: Modification MCC | D27: 1 | E27: OUI | F27: OUI | G27: OUI | H27: OUI | I27: OUI | P27: Écrit | Q27: 1h30 | R27: CT (Contrôle terminal) | S27: Écrit | T27: 1h30 | V27: Voir MCC PO2 SV
A28: ='S4 Maquette'!B28 -> Photosynthèse et métabolisme secondaire | B28: ='S4 Maquette'!C28 -> ECUE | C28: Modification MCC | D28: 1 | E28: OUI | F28: OUI | G28: OUI | H28: OUI | I28: OUI | P28: Écrit | Q28: 1h30 | R28: CT (Contrôle terminal) | S28: Écrit | T28: 1h30 | V28: Voir MCC PO2 SV
A29: ='S4 Maquette'!B29 -> UE TERRE : Géodynamique et grands ensembles géologiques | B29: ='S4 Maquette'!C29 -> UE | C29: Modification MCC | E29: OUI | F29: OUI | G29: OUI | H29: OUI | I29: OUI | K29: CC&CT | L29: 0.5 | M29: 3 | N29: Écrit | O29: 3h | R29: CT (Contrôle terminal) | S29: Écrit | T29: 2h | V29: si jamais les effectifs en Seconde Chance sont faible, possibilité de faire passer un oral 30 minutes | W29: Voir MCC PO2 ST
A30: ='S4 Maquette'!B30 -> UE TERRE : Géomorphologie Télédétection et SIG | B30: ='S4 Maquette'!C30 -> UE | C30: Modification MCC | E30: OUI | F30: OUI | G30: OUI | H30: OUI | I30: OUI | K30: CC&CT | L30: 0.5 | M30: 3 | N30: Écrit | O30: 3h | R30: CT (Contrôle terminal) | S30: Écrit | T30: 2h | V30: si jamais les effectifs en Seconde Chance sont faible, possibilité de faire passer un oral 30 minutes | W30: Voir MCC PO2 ST
A31: ='S4 Maquette'!B31 -> Cartographie | B31: ='S4 Maquette'!C31 -> UE | C31: Modification MCC | E31: OUI | F31: OUI | G31: OUI | H31: OUI | I31: OUI | K31: CC&CT | L31: 0.5 | M31: 3 | N31: Écrit | O31: 3h | R31: CT (Contrôle terminal) | S31: Écrit | T31: 2h | V31: si jamais les effectifs en Seconde Chance sont faible, possibilité de faire passer un oral 30 minutes | W31: Voir MCC PO2 ST
A32: ='S4 Maquette'!B32 -> 0 | B32: ='S4 Maquette'!C32 -> 0 | C32: Modification MCC
A33: ='S4 Maquette'!B33 -> 0 | B33: ='S4 Maquette'!C33 -> 0 | C33: Modification MCC
A34: ='S4 Maquette'!B34 -> 0 | B34: ='S4 Maquette'!C34 -> 0 | C34: Modification MCC
A35: ='S4 Maquette'!B35 -> 0 | B35: ='S4 Maquette'!C35 -> 0 | C35: Modification MCC
A36: ='S4 Maquette'!B36 -> 0 | B36: ='S4 Maquette'!C36 -> 0 | C36: Modification MCC
A37: ='S4 Maquette'!B37 -> 0 | B37: ='S4 Maquette'!C37 -> 0 | C37: Modification MCC
A38: ='S4 Maquette'!B38 -> 0 | B38: ='S4 Maquette'!C38 -> 0 | C38: Modification MCC
A39: ='S4 Maquette'!B39 -> 0 | B39: ='S4 Maquette'!C39 -> 0 | C39: Modification MCC
A40: ='S4 Maquette'!B40 -> 0 | B40: ='S4 Maquette'!C40 -> 0 | C40: Modification MCC
A41: ='S4 Maquette'!B41 -> 0 | B41: ='S4 Maquette'!C41 -> 0 | C41: Modification MCC
A42: ='S4 Maquette'!B42 -> 0 | B42: ='S4 Maquette'!C42 -> 0 | C42: Modification MCC
A43: ='S4 Maquette'!B43 -> 0 | B43: ='S4 Maquette'!C43 -> 0 | C43: Modification MCC
... A300: ='S4 Maquette'!B300 -> 0 | B300: ='S4 Maquette'!C300 -> 0 | C300: Modification MCC
