Workbook
Name list_cmp: #REF!
Name List_CNU: #REF!
Name List_Controle: #REF!
Name List_Controle2: #REF!
Name List_Mutualisation: #REF!
Name List_RegimeInscription: #REF!
Name List_Statut: #REF!
Name List_Type: #REF!
Name list_typedip: #REF!
Name tab_code_dip: #REF!

Sheet Fiche Générale
A1: Type Diplôme : Portail & Double Portail
A2: Types Diplômes | B2: Double Portail
A3: COMPOSANTE | B3: Portail_SV | C3: Portail_ST
A4: MENTION | B4: Mathématiques-Sciences de la vie
A5: CODE DIPLÔME | B5: SPMAV18
A6: Régime d'inscription
A8: Parcours Type Portail
A9: Parcours Type
A13: Heures Maquette Année 1 | B13: Heures Valorisées Année 1 | C13: Heures Maquette Année 2 | D13: Heures Valorisées Année 2
A15: 861 | B15: 0 | C15: 815 | D15: -18
A19: COMPENSATION
A20: Les MCC déterminent le mode de compensation entre UE, semestre et année ainsi que la possibilité d’une note éliminatoire.
A21: Obtention des UE
A22: Voir les MCC L1/L2 SITE et SV. Pour les UE composées d'ECUE relevant de 2 portails différents, pas de compensation entre ECUE
A25: Obtention du Semestre
A26: Pas de compensation entre UE, ni de validation de semestre en session 1
A28: Les calculs du semestre en session 2 utilisent pour toute UE de Mathématiques la meilleure note entre session1 et session2.
A29: Le semestre est validé si les quatre conditions suivantes sont satifaites :
A30: (1) >=10 de moyenne générale sur le semestre (avec les UET)
A31: (2) >=10 de moyenne générale sur le semestre sans les UET
A32: (3) avoir validé au moins une UE de Mathématiques et une UE de SV
A33: (4) les seuils de compensation sont satisfaits
... A50: Arrêté du 22 janvier 2014 fixant le cadre national des formations conduisant à la délivrance des diplômes nationaux de licence, de licence professionnelle et de master

Sheet S1 Maquette
A7: Composante | B7: Portail_ST | C7: Diplôme | E7: Mathématiques-Sciences de la vie | G7: Code diplôme | H7: SPMAV18
C10: Parcours type | E10: 0
A13: Année | B13: 1ère année de Portail | C13: Code année | G13: Heure Maquette | H13: 453
A15: Semestre | B15: Semestre 1 | C15: Code semestre | G15: Heure Valorisées | H15: 0
A18: Niveau | B18: Libellé ELP | C18: Nature ELP | D18: ECTS | E18: Type | F18: Statut | G18: Code Apogée | H18: CNU | I18: Heure CM | J18: Heure TD | K18: Heure TP | L18: Langues | M18: Mutualisation | N18: Formation Porteuse | O18: Observations / Remarques ex: Intervention à titre gracieux / Capacité d'accueil max
A19: 0 | B19: Compétences transversales S1 | C19: UE | D19: 6
A20: 0.1 | B20: Compétences écrites 1 | C20: ECUE
A21: 0.2 | B21: Compétences informationnelles | C21: ECUE
A22: 0.3 | B22: Langue vivante étrangère 1 | C22: ECUE
A23: 1 | B23: UE SV : Organisation et Mécanismes Moléculaires des cellules eucaryotes | C23: UE | D23: 6 | M23: Portée | N23: PORTAIL SV
A24: 1.1 | B24: Biologie Cellulaire | C24: ECUE | H24: 65-Biologie cellulaire | I24: 20 | J24: 10 | K24: 0 | M24: Portée | N24: PORTAIL SV
A25: 1.2 | B25: Spécificité de la Cellule Végétale | C25: ECUE | H25: 66-Physiologie | I25: 8 | J25: 6 | K25: 0 | M25: Portée | N25: PORTAIL SV
A26: 1.3 | B26: Biologie Moléculaire | C26: ECUE | H26: 64-Biochimie et biologie moléculaire | I26: 10 | J26: 6 | K26: 0 | M26: Portée | N26: PORTAIL SV
A27: 2 | B27: UE SV : Génétique, Evolution et écologie générale | C27: UE | D27: 6 | M27: Portée | N27: PORTAIL SV
A28: 2.1 | B28: Génétique Formelle | C28: ECUE | H28: 64-Biochimie et biologie moléculaire | I28: 8 | J28: 10 | K28: 0 | M28: Portée | N28: PORTAIL SV
A29: 2.2 | B29: Biologie Evolutive | C29: ECUE | H29: 67-Biologie des populations et écologie | I29: 10 | J29: 8 | K29: 0 | M29: Portée | N29: PORTAIL SV
A30: 2.3 | B30: Ecologie générale | C30: ECUE | H30: 67-Biologie des populations et écologie | I30: 26 | J30: 0 | K30: 0 | M30: Portée | N30: PORTAIL SV
A31: 3 | B31: UE SV : Chimie-Biochimie | C31: UE | D31: 6 | M31: Portée | N31: PORTAIL SV
A32: 3.1 | B32: Biochimie Structurale | C32: ECUE | H32: 64-Biochimie et biologie moléculaire | I32: 18 | J32: 12 | K32: 0 | M32: Portée | N32: PORTAIL SV
A33: 3.2 | B33: Structure des Molécules et Réactions Acides-Bases | C33: ECUE | H33: 31-Chimie théorique, physique, analytique | I33: 14 | J33: 18 | K33: 0 | M33: Portée | N33: PORTAIL SV
A34: 4 | B34: UE MATHS : Introduction à l'analyse | C34: UE | D34: 6 | H34: 25-Mathématiques | I34: 20 | J34: 36 | M34: Portée | N34: PORTAIL ST
A35: 5 | B35: UE MATHS : Introduction à l'algèbre linéaire | C35: UE | D35: 6 | H35: 25-Mathématiques | I35: 20 | J35: 36 | M35: Portée | N35: PORTAIL ST
A36: 6 | B36: UE SCIENCES : Introduction à la programmation | C36: UE | D36: 6 | H36: 27-Informatique | I36: 18 | J36: 18 | K36: 18 | M36: Portée | N36: PORTAIL ST
A37: 7 | B37: Math enjeux 1 | C37: UE | D37: 0 | H37: 25-Mathématiques | J37: 17 | M37: Portée | N37: PORTAIL ST
B39: Remédiation mathématiques Portail ST | O39: Intitulé du dispositif portant un volume de 370h que le département de mathématiques peut utilser, sous réserve de soutenabilité, pour faire des mesures pédagogiques (colles, soutien, mise à niveau, pédagogique innovante). Le volume est prévu pour aider les étudiants aux UE mathématiques du L1 et du L2 du Portail SITE. Ceci correspond au code apogée actuel SPUMARMD sur le S1, S2, S3 et S4.
