Workbook
Name list_cmp: Listes!$A$32:$G$32
Name List_CNU: Listes!$A$40:$A$96
Name List_Controle: Listes!$B$2:$B$6
Name List_Controle2: Listes!$A$2:$A$4
Name List_Mutualisation: Listes!$E$2:$E$3
Name List_NatureELP: Listes!$D$2:$D$6
Name List_RegimeInscription: Listes!$C$2:$C$3
Name List_Statut: Listes!$F$2:$F$4
Name List_Type: Listes!$G$2:$G$3
Name list_typedip: Listes!$H$2:$H$3
Name liste_cmp: #REF!
Name liste_cmp: #REF!
Name liste_cmp: #REF!
Name liste_cmp: #REF!
Name liste_cmp: #REF!
Name liste_cmp: #REF!
Name liste_mention: #REF!
Name liste_mention: #REF!
Name liste_mention: #REF!
Name liste_mention: #REF!
Name liste_mention: #REF!
Name liste_mention: #REF!
Name Médecine: #REF!
Name Médecine: #REF!
Name Médecine: #REF!
Name Por: #REF!
Name Por: #REF!
Name Por: #REF!
Name Por: #REF!
Name Por: #REF!
Name Por: #REF!
Name Portail_Droit: Listes!$B$33:$B$34
Name Portail_EG: Listes!$A$33:$A$34
Name Portail_LLAC: Listes!$D$33:$D$36
Name Portail_SHS: #REF!
Name Portail_SHS: #REF!
Name Portail_SHS: #REF!
Name Portail_SHS: #REF!
Name Portail_SHS: #REF!
Name Portail_SHS: Listes!$C$33:$C$36
Name Portail_ST: Listes!$E$33:$E$37
Name Portail_STAPS: Listes!$G$33
Name Portail_SV: Listes!$F$33:$F$35
Name tab_code: #REF!
Name tab_code: #REF!
Name tab_code: #REF!
Name tab_code: #REF!
Name tab_code: #REF!
Name tab_code: #REF!
Name tab_code_dip: Listes!$A$8:$B$28

Sheet Listes
A1: Type contrôle | B1: Nature contrôle | C1: Régime d'inscription | D1: Nature ELP | E1: Mutualisation | F1: Statut | G1: Type | H1: Diplômes
A2: CCI (CC Intégral) | B2: Écrit | C2: Initiale Hors-Apprentissage / Formation Continue / Formation Permanente | D2: UE | E2: Porteuse | F2: Création | G2: Facultatif | H2: Portail
A3: CT (Contrôle terminal) | B3: Oral | C3: Contrat d'Apprentissage/ Contrat de Professionnalisation | D3: ECUE | E3: Portée | F3: Modification | G3: Complémentaire | H3: Double Portail
A4: CC&CT | B4: Écrit/Pratique | D4: BLOC | F4: Fermeture
B5: Rapport/Mémoire | D5: OPTION
B6: Pratique sportive | D6: Parcours Pédagogique
A8: Mention | B8: Codage Diplôme
A9: Sciences et technologie | B9: SPSIT18
A10: Sciences de l'Homme et de la Société | B10: HPSHS18
A11: Lettres Langues Arts et Communication | B11: HPLAC18
A12: Droit | B12: DPDRT18
A13: Économie et gestion | B13: IPECG18
A14: Sciences de la Vie | B14: SPVIE18
A15: STAPS | B15: PPSTA18
A16: Psychologie | B16: HPPSY18
A17: Humanités | B17: HPUMA18
A18: Économie-Sociologie | B18: IPSOE18
A19: Philosophie-Droit | B19: HPPHD18
... A28: Bio-Geo-Sciences | B28: SPBGS18
A32: Portail_EG | B32: Portail_Droit | C32: Portail_SHS | D32: Portail_LLAC | E32: Portail_ST | F32: Portail_SV | G32: Portail_STAPS
A33: Économie et gestion | B33: Droit | C33: Sciences de l'Homme et de la Société | D33: Lettres Langues Arts et Communication | E33: Sciences et technologie | F33: Sciences de la vie | G33: STAPS
A34: Économie-Sociologie | B34: Capacaité en Droit | C34: Psychologie | D34: Histoire-Lettres | E34: Mathématiques-Sciences de la vie | F34: Chimie-Sciences de la vie
C35: Humanités | D35: Musicologie - Science de l'homme, anthropologie, ethnologie | E35: Mathématiques-Physique | F35: Bio-Geo-Sciences
C36: Philosophie-Psychologie | D36: Philosophie-Droit | E36: Mathématiques-Informatique
E37: Sciences de la terre-Physique
A39: CNU
A40: 01-Droit privé et sciences criminelles
A41: 02-Droit public
A42: 03-Histoire du droit et des institutions
A43: 04-Science politique
A44: 05-Sciences économiques
A45: 06-Sciences de gestion
A46: 07-Sciences du langage : linguistique et phonétique générales
A47: 08-Langues et littératures anciennes
A48: 09-Langue et littérature françaises
A49: 10-Littératures comparées
A50: 11-Langues et littératures anglaises et anglo-saxonnes
... A96: 87-Sciences biologiques pharmaceutiques

Sheet Calcul
A1: Heure Pédagogique | AA1: Heure CM
A3: Semestre 1 | D3: Semestre 2 | G3: Semestre 3 | J3: Semestre 4 | AA3: Semestre 1 | AB3: Semestre 2 | AC3: Semestre 3 | AD3: Semestre 4
A4: Heure CM | B4: Heure TD | C4: Heure TP | D4: Heure CM | E4: Heure TD | F4: Heure TP | G4: Heure CM | H4: Heure TD | I4: Heure TP | J4: Heure CM | K4: Heure TD | L4: Heure TP | AA4: ='S1 Maquette'!I19*1.5 -> 0 | AB4: ='S2 Maquette'!I19*1.5 -> 0 | AC4: ='S3 Maquette'!I19*1.5 -> 0 | AD4: ='S4 Maquette'!I19*1.5 -> 0
A5: =SUM(AA4:AA291) -> #REF! | B5: =SUM('S1 Maquette'!J19:J305) -> 219 | C5: =SUM('S1 Maquette'!K19:K305) -> 18 | D5: =SUM(AB4:AB291) -> #REF! | E5: =SUM('S2 Maquette'!J19:J304) -> 112 | F5: =SUM('S2 Maquette'!K19:K304) -> 90 | G5: =SUM(AC4:AC291) -> #REF! | H5: =SUM('S3 Maquette'!J19:J303) -> 146 | I5: =SUM('S3 Maquette'!K19:K303) -> 116 | J5: =SUM(AD4:AD291) -> #REF! | K5: =SUM('S4 Maquette'!J19:J305) -> 247 | L5: =SUM('S4 Maquette'!K19:K305) -> 29 | AA5: ='S1 Maquette'!I20*1.5 -> 0 | AB5: ='S2 Maquette'!I20*1.5 -> 0 | AC5: ='S3 Maquette'!I20*1.5 -> 0 | AD5: ='S4 Maquette'!I20*1.5 -> 0
A6: Total | D6: Total | G6: Total | J6: Total | AA6: ='S1 Maquette'!I21*1.5 -> 0 | AB6: ='S2 Maquette'!I21*1.5 -> 0 | AC6: ='S3 Maquette'!I21*1.5 -> 0 | AD6: ='S4 Maquette'!I21*1.5 -> 0
A7: =SUM(A5,B5,C5) -> #REF! | D7: =SUM(D5,E5,F5) -> #REF! | G7: =SUM(G5,H5,I5) -> #REF! | J7: =SUM(J5,K5,L5) -> #REF! | AA7: ='S1 Maquette'!I22*1.5 -> 0 | AB7: ='S2 Maquette'!I22*1.5 -> 0 | AC7: ='S3 Maquette'!I22*1.5 -> 0 | AD7: ='S4 Maquette'!I22*1.5 -> 0
A8: Total | G8: Total | AA8: ='S1 Maquette'!I23*1.5 -> 0 | AB8: ='S2 Maquette'!#REF!*1.5 -> #REF! | AC8: ='S3 Maquette'!#REF!*1.5 -> #REF! | AD8: ='S4 Maquette'!#REF!*1.5 -> #REF!
AA9: ='S1 Maquette'!I24*1.5 -> 0 | AB9: ='S2 Maquette'!I23*1.5 -> 0 | AC9: ='S3 Maquette'!I42*1.5 -> 0 | AD9: ='S4 Maquette'!I40*1.5 -> 36
A10: =SUM(A7,D7) -> #REF! | G10: =SUM(G7,J7) -> #REF! | AA10: ='S1 Maquette'!I25*1.5 -> 0 | AB10: ='S2 Maquette'!I24*1.5 -> 18 | AC10: ='S3 Maquette'!I43*1.5 -> 18 | AD10: ='S4 Maquette'!#REF!*1.5 -> #REF!
AA11: ='S1 Maquette'!I26*1.5 -> 30 | AB11: ='S2 Maquette'!I25*1.5 -> 18 | AC11: ='S3 Maquette'!I44*1.5 -> 18 | AD11: ='S4 Maquette'!I41*1.5 -> 36
AA12: ='S1 Maquette'!I27*1.5 -> 30 | AB12: ='S2 Maquette'!I28*1.5 -> 0 | AC12: ='S3 Maquette'!#REF!*1.5 -> #REF! | AD12: ='S4 Maquette'!#REF!*1.5 -> #REF!
AA13: ='S1 Maquette'!I28*1.5 -> 0 | AB13: ='S2 Maquette'!I32*1.5 -> 30 | AC13: ='S3 Maquette'!#REF!*1.5 -> #REF! | AD13: ='S4 Maquette'!#REF!*1.5 -> #REF!
A14: Heure Porté par la maquette | N14: Mutualisation Porteuse | AA14: ='S1 Maquette'!I35*1.5 -> 0 | AB14: ='S2 Maquette'!I33*1.5 -> 27 | AC14: ='S3 Maquette'!#REF!*1.5 -> #REF! | AD14: ='S4 Maquette'!I42*1.5 -> 0
AA15: ='S1 Maquette'!I36*1.5 -> 30 | AB15: ='S2 Maquette'!I34*1.5 -> 0 | AC15: ='S3 Maquette'!I46*1.5 -> 27 | AD15: ='S4 Maquette'!#REF!*1.5 -> #REF!
A16: Semestre 1 | D16: Semestre 2 | G16: Semestre 3 | J16: Semestre 4 | N16: Semestre 1 | Q16: Semestre 2 | T16: Semestre 3 | W16: Semestre 4 | AA16: ='S1 Maquette'!I37*1.5 -> 30 | AB16: ='S2 Maquette'!I35*1.5 -> 30 | AC16: ='S3 Maquette'!#REF!*1.5 -> #REF! | AD16: ='S4 Maquette'!#REF!*1.5 -> #REF!
A17: Heure CM | B17: Heure TD | C17: Heure TP | D17: Heure CM | E17: Heure TD | F17: Heure TP | G17: Heure CM | H17: Heure TD | I17: Heure TP | J17: Heure CM | K17: Heure TD | L17: Heure TP | N17: Heure CM | O17: Heure TD | P17: Heure TP | Q17: Heure CM | R17: Heure TD | S17: Heure TP | T17: Heure CM | U17: Heure TD | V17: Heure TP | W17: Heure CM | X17: Heure TD | Y17: Heure TP | AA17: ='S1 Maquette'!I38*1.5 -> 27 | AB17: ='S2 Maquette'!I36*1.5 -> 0 | AC17: ='S3 Maquette'!#REF!*1.5 -> #REF! | AD17: ='S4 Maquette'!#REF!*1.5 -> #REF!
A18: =A5-N18 -> #REF! | B18: =B5-O18 -> 57 | C18: =C5-P18 -> 0 | D18: =D5-Q18 -> #REF! | E18: =E5-R18 -> 40 | F18: =F5-S18 -> 60 | G18: =G5-T18 -> #REF! | H18: =H5-U18 -> 74 | ... L18: =L5-Y18 -> 9 | N18: =SUMIF('S1 Maquette'!M19:M305,"Portée",'S1 Maquette'!I19:I305)*1.5 -> 147 | O18: =SUMIF('S1 Maquette'!M19:M305,"Portée",'S1 Maquette'!J19:J305) -> 162 | P18: =SUMIF('S1 Maquette'!M19:M305,"Portée",'S1 Maquette'!K19:K305) -> 18 | Q18: =SUMIF('S2 Maquette'!M19:M304,"Portée",'S2 Maquette'!I19:I304)*1.5 -> 129 | R18: =SUMIF('S2 Maquette'!M19:M304,"Portée",'S2 Maquette'!J19:J304) -> 72 | S18: =SUMIF('S2 Maquette'!M9:M304,"Portée",'S2 Maquette'!K19:K304) -> 30 | T18: =SUMIF('S3 Maquette'!M19:M303,"Portée",'S3 Maquette'!I19:I303)*1.5 -> 162 | U18: =SUMIF('S3 Maquette'!M19:M303,"Portée",'S3 Maquette'!J19:J303) -> 72 | V18: =SUMIF('S3 Maquette'!M19:M303,"Portée",'S3 Maquette'!K19:K303) -> 48 | W18: =SUMIF('S4 Maquette'!M19:M305,"Portée",'S4 Maquette'!I19:I305)*1.5 -> 171 | X18: =SUMIF('S4 Maquette'!M19:M305,"Portée",'S4 Maquette'!J19:J305) -> 104 | Y18: =SUMIF('S4 Maquette'!M19:M305,"Portée",'S4 Maquette'!K19:K305) -> 20 | AA18: ='S1 Maquette'!#REF!*1.5 -> #REF! | AB18: ='S2 Maquette'!I37*1.5 -> 0 | AC18: ='S3 Maquette'!#REF!*1.5 -> #REF! | AD18: ='S4 Maquette'!#REF!*1.5 -> #REF!
A19: Total | D19: Total | G19: Total | J19: Total | AA19: ='S1 Maquette'!I39*1.5 -> 0 | AB19: ='S2 Maquette'!I38*1.5 -> 30 | AC19: ='S3 Maquette'!#REF!*1.5 -> #REF! | AD19: ='S4 Maquette'!#REF!*1.5 -> #REF!
A20: =SUM(A18,B18,C18) -> #REF! | D20: =SUM(D18,E18,F18) -> #REF! | G20: =SUM(G18,H18,I18) -> #REF! | J20: =SUM(J18,K18,L18) -> #REF! | AA20: ='S1 Maquette'!I40*1.5 -> 0 | AB20: ='S2 Maquette'!I39*1.5 -> 30 | AC20: ='S3 Maquette'!#REF!*1.5 -> #REF! | AD20: ='S4 Maquette'!#REF!*1.5 -> #REF!
A21: Total | G21: Total | AA21: ='S1 Maquette'!I41*1.5 -> 0 | AB21: ='S2 Maquette'!I40*1.5 -> 0 | AC21: ='S3 Maquette'!#REF!*1.5 -> #REF! | AD21: ='S4 Maquette'!#REF!*1.5 -> #REF!
A22: =SUM(A20,D20) -> #REF! | G22: =SUM(G20,J20) -> #REF! | AA22: ='S1 Maquette'!I42*1.5 -> 0 | AB22: ='S2 Maquette'!I41*1.5 -> 0 | AC22: ='S3 Maquette'!#REF!*1.5 -> #REF! | AD22: ='S4 Maquette'!#REF!*1.5 -> #REF!
AA23: ='S1 Maquette'!I43*1.5 -> 0 | AB23: ='S2 Maquette'!I42*1.5 -> 0 | AC23: ='S3 Maquette'!#REF!*1.5 -> #REF! | AD23: ='S4 Maquette'!I48*1.5 -> 0
AA24: ='S1 Maquette'!I44*1.5 -> 0 | AB24: ='S2 Maquette'!I43*1.5 -> 0 | AC24: ='S3 Maquette'!I47*1.5 -> 0 | AD24: ='S4 Maquette'!#REF!*1.5 -> #REF!
AA25: ='S1 Maquette'!I45*1.5 -> 0 | AB25: ='S2 Maquette'!I44*1.5 -> 0 | AC25: ='S3 Maquette'!#REF!*1.5 -> #REF! | AD25: ='S4 Maquette'!#REF!*1.5 -> #REF!
AA26: ='S1 Maquette'!I46*1.5 -> 0 | AB26: ='S2 Maquette'!I45*1.5 -> 0 | AC26: ='S3 Maquette'!#REF!*1.5 -> #REF! | AD26: ='S4 Maquette'!#REF!*1.5 -> #REF!
AA27: ='S1 Maquette'!I47*1.5 -> 0 | AB27: ='S2 Maquette'!I46*1.5 -> 0 | AC27: ='S3 Maquette'!#REF!*1.5 -> #REF! | AD27: ='S4 Maquette'!#REF!*1.5 -> #REF!
AA28: ='S1 Maquette'!I48*1.5 -> 0 | AB28: ='S2 Maquette'!I47*1.5 -> 0 | AC28: ='S3 Maquette'!#REF!*1.5 -> #REF! | AD28: ='S4 Maquette'!#REF!*1.5 -> #REF!
AA29: ='S1 Maquette'!I49*1.5 -> 0 | AB29: ='S2 Maquette'!I48*1.5 -> 0 | AC29: ='S3 Maquette'!#REF!*1.5 -> #REF! | AD29: ='S4 Maquette'!I49*1.5 -> 0
AA30: ='S1 Maquette'!I50*1.5 -> 0 | AB30: ='S2 Maquette'!I49*1.5 -> 0 | AC30: ='S3 Maquette'!#REF!*1.5 -> #REF! | AD30: ='S4 Maquette'!I50*1.5 -> 27
AA31: ='S1 Maquette'!I51*1.5 -> 0 | AB31: ='S2 Maquette'!I50*1.5 -> 0 | AC31: ='S3 Maquette'!#REF!*1.5 -> #REF! | AD31: ='S4 Maquette'!I51*1.5 -> 36
AA32: ='S1 Maquette'!I52*1.5 -> 0 | AB32: ='S2 Maquette'!I51*1.5 -> 0 | AC32: ='S3 Maquette'!#REF!*1.5 -> #REF! | AD32: ='S4 Maquette'!I52*1.5 -> 0
AA33: ='S1 Maquette'!I53*1.5 -> 0 | AB33: ='S2 Maquette'!I52*1.5 -> 0 | AC33: ='S3 Maquette'!I51*1.5 -> 0 | AD33: ='S4 Maquette'!I53*1.5 -> 0
AA34: ='S1 Maquette'!I54*1.5 -> 0 | AB34: ='S2 Maquette'!I53*1.5 -> 0 | AC34: ='S3 Maquette'!I52*1.5 -> 0 | AD34: ='S4 Maquette'!I54*1.5 -> 0
AA35: ='S1 Maquette'!I55*1.5 -> 0 | AB35: ='S2 Maquette'!I54*1.5 -> 0 | AC35: ='S3 Maquette'!I53*1.5 -> 0 | AD35: ='S4 Maquette'!I55*1.5 -> 0
AA36: ='S1 Maquette'!I56*1.5 -> 0 | AB36: ='S2 Maquette'!I55*1.5 -> 0 | AC36: ='S3 Maquette'!I54*1.5 -> 0 | AD36: ='S4 Maquette'!I56*1.5 -> 0
AA37: ='S1 Maquette'!I57*1.5 -> 0 | AB37: ='S2 Maquette'!I56*1.5 -> 0 | AC37: ='S3 Maquette'!I55*1.5 -> 0 | AD37: ='S4 Maquette'!I57*1.5 -> 0
AA38: ='S1 Maquette'!I58*1.5 -> 0 | AB38: ='S2 Maquette'!I57*1.5 -> 0 | AC38: ='S3 Maquette'!I56*1.5 -> 0 | AD38: ='S4 Maquette'!I58*1.5 -> 0
AA39: ='S1 Maquette'!I59*1.5 -> 0 | AB39: ='S2 Maquette'!I58*1.5 -> 0 | AC39: ='S3 Maquette'!I57*1.5 -> 0 | AD39: ='S4 Maquette'!I59*1.5 -> 0
AA40: ='S1 Maquette'!I60*1.5 -> 0 | AB40: ='S2 Maquette'!I59*1.5 -> 0 | AC40: ='S3 Maquette'!I58*1.5 -> 0 | AD40: ='S4 Maquette'!I60*1.5 -> 0
AA41: ='S1 Maquette'!I61*1.5 -> 0 | AB41: ='S2 Maquette'!I60*1.5 -> 0 | AC41: ='S3 Maquette'!I59*1.5 -> 0 | AD41: ='S4 Maquette'!I61*1.5 -> 0
AA42: ='S1 Maquette'!I62*1.5 -> 0 | AB42: ='S2 Maquette'!I61*1.5 -> 0 | AC42: ='S3 Maquette'!I60*1.5 -> 0 | AD42: ='S4 Maquette'!I62*1.5 -> 0
AA43: ='S1 Maquette'!I63*1.5 -> 0 | AB43: ='S2 Maquette'!I62*1.5 -> 0 | AC43: ='S3 Maquette'!I61*1.5 -> 0 | AD43: ='S4 Maquette'!I63*1.5 -> 0
AA44: ='S1 Maquette'!I64*1.5 -> 0 | AB44: ='S2 Maquette'!I63*1.5 -> 0 | AC44: ='S3 Maquette'!I62*1.5 -> 0 | AD44: ='S4 Maquette'!I64*1.5 -> 0
... AA291: ='S1 Maquette'!I311*1.5 -> 0 | AB291: ='S2 Maquette'!I310*1.5 -> 0 | AC291: ='S3 Maquette'!I309*1.5 -> 0 | AD291: ='S4 Maquette'!I311*1.5 -> 0

Sheet Fiche Générale
A1: Type Diplôme : Portail & Double Portail
A2: Types Diplômes | B2: Portail
A3: COMPOSANTE | B3: Portail_ST
A4: MENTION | B4: Sciences et technologie
A5: CODE DIPLÔME | B5: =IFERROR(VLOOKUP(B4,tab_code_dip,2,FALSE),"-") -> SPSIT18
A6: Régime d'inscription | B6: Initiale Hors-Apprentissage / Formation Continue / Formation Permanente
A8: Parcours Type Portail
A9: Parcours Type | B9: MIASHS
A13: Heures Maquette Année 1 | B13: Heures Valorisées Année 1 | C13: Heures Maquette Année 2 | D13: Heures Valorisées Année 2
A15: =Calcul!A10 -> #REF! | B15: =Calcul!A22 -> #REF! | C15: =Calcul!G10 -> #REF! | D15: =Calcul!G22 -> #REF!
A19: COMPENSATION
A20: Les MCC déterminent le mode de compensation entre UE, semestre et année ainsi que la possibilité d’une note éliminatoire.
A21: Obtention des UE
A22: Pour l'obtention des UE et des ECUE, se reporter à la fiche générale et MCC de la licence Sciences et Technologies.
A25: Obtention du Semestre
A26: Aucune validation de semestre (ni en session 1, ni en session 2).
A29: Obtention de l'Année
A30: PARCOURS MIAGE : LICENCE 1
A31: L'année est acquise en session 1 si toutes les UE sont validées (pas de compensation). En session 2, l'année L1 est validée si toutes les conditions suivantes sont validées : - Valider au moins 2 UE de mathématiques, valider au moins 1 UE d'économie-gestion, valider au moins 2 UE d'informatique ; - Avoir la moyenne sur toutes les UE disciplinaires de L1 ; -Avoir la moyenne sur toutes les UE de L1 (Compétences Transversales inclues).
A32: PARCOURS MIAGE : LICENCE 2
A33: L'année est acquise en session 1 si toutes les UE sont validées (pas de compensation). En session 2, l'année L2 MIASHS parcours MIAGE est validée si toutes les conditions suivantes sont validées : - Valider au moins 1 UE et 1 ECUE de mathématiques, valider au moins 1 ECUE d'économie-gestion, valider au moins 4 UE d'informatique ; - Avoir la moyenne sur toutes les UE disciplinaires de L2 ; -Avoir la moyenne sur toutes les UE de L2 (Compétences Transversales inclues) ;
A34: PARCOURS MASS : LICENCE 1
... A47: Arrêté du 22 janvier 2014 fixant le cadre national des formations conduisant à la délivrance des diplômes nationaux de licence, de licence professionnelle et de master

Sheet S1 Maquette
A7: Composante | B7: ='Fiche Générale'!B3 -> Portail_ST | C7: Diplôme | E7: ='Fiche Générale'!B4 -> Sciences et technologie | G7: Code diplôme | H7: ='Fiche Générale'!B5 -> SPSIT18
C10: Parcours type | E10: ='Fiche Générale'!B9 -> MIASHS
A13: Année | B13: 1ère année de Portail | C13: Code année | G13: Heure Maquette | H13: =Calcul!A7 -> #REF!
A15: Semestre | B15: Semestre 1 | C15: Code semestre | G15: Heure Valorisées | H15: =Calcul!A20 -> #REF!
A18: Niveau | B18: Libellé ELP | C18: Nature ELP | D18: ECTS | E18: Type | F18: Statut | G18: Code Apogée | H18: CNU | I18: Heure CM | J18: Heure TD | K18: Heure TP | L18: Langues | M18: Mutualisation | N18: Formation Porteuse | O18: Observations / Remarques ex: Intervention à titre gracieux / Capacité d'accueil max
A19: 0 | B19: Compétences transversales S1 | C19: UE | D19: 6
A20: 0.1 | B20: Compétences écrites 1 | C20: ECUE
A21: 0.2 | B21: Compétences informationnelles | C21: ECUE
A22: 0.3 | B22: Langue vivante étrangère 1 | C22: ECUE
A23: 1 | B23: Math enjeux 1 | C23: UE | D23: 0 | H23: 25-Mathématiques | I23: 0 | J23: 17 | K23: 0
A24: 2 | B24: CHOIX UE MATHS "Option Analyse" | C24: UE | D24: 6 | M24: Portée | N24: Licence mathématiques
B25: Min 1 ; Max 1 | C25: OPTION
A26: 2.1 | B26: UE MATHS : Calculus 1 | C26: UE | D26: 6 | H26: 25-Mathématiques | I26: 20 | J26: 36 | M26: Portée | N26: Licence mathématiques
A27: 2.2 | B27: UE MATHS : Introduction à l'Analyse | C27: UE | D27: 6 | H27: 25-Mathématiques | I27: 20 | J27: 36 | M27: Portée | N27: Licence mathématiques
A28: 3 | B28: CHOIX UE MATHS "Option Algèbre linéaire" | C28: UE | D28: 6 | M28: Portée | N28: Licence mathématiques
B29: Min 1 ; Max 1 | C29: OPTION
A30: 3.1 | B30: UE MATHS : Méthodes d'Algèbre Linéaire | C30: UE | D30: 6 | H30: 25-Mathématiques | I30: 20 | J30: 36 | M30: Portée | N30: Licence mathématiques
A31: 3.2 | B31: UE MATHS : Introduction à l'Algèbre linéaire | C31: UE | D31: 6 | H31: 25-Mathématiques | I31: 20 | J31: 36 | M31: Portée | N31: Licence mathématiques
A32: 4 | B32: UE MIASHS : EGE 1 (Economie-Gestion S1) | C32: UE | D32: 6 | M32: Porteuse
A33: 4.1 | B33: ECUE MIASHS : Macroéconomie 1 | C33: ECUE | H33: 05-Sciences économiques | I33: 20 | J33: 20 | M33: Porteuse
A34: 4.2 | B34: CHOIX ECUE "EGE 1" à choix | C34: ECUE | H34: 06-Sciences de gestion
B35: Min 1 ; Max 1 | C35: OPTION
A36: 4.2.1 | B36: ECUE MIASHS : Introduction à l'Analyse Economique | C36: ECUE | H36: 05-Sciences économiques | I36: 20 | J36: 10 | M36: Porteuse
A37: 4.2.2 | B37: ECUE MIASHS : Culture Economique | C37: ECUE | H37: 05-Sciences économiques | I37: 20 | J37: 10 | M37: Porteuse
A38: 5 | B38: UE SCIENCES : Introduction à la programmation 1 | C38: UE | D38: 6 | H38: 27-Informatique | I38: 18 | J38: 18 | K38: 18 | M38: Portée | N38: Portail ST
A39: 6 | B39: BLOC Réorientation/parcours personnalisé | O39: Bloc des UE pour les étudiants avec contrat pédagogique personnalisé (notamment étudiants venant du parcours aménagé et en cas de réorientaion dans le portail), l'accord du responsible pédagogique est nécessaire pour une inscription en ces UE
A40: 6.1 | B40: UE INFO : Bases de l'Informatique 1 | C40: UE | D40: 6 | O40: UE qui pourra remplacer Introduction à la programmation 1
