Workbook
Name list_cmp: Listes!$A$10:$G$10
Name List_CNU: Listes!$A$27:$A$83
Name List_Controle: Listes!$B$2:$B$6
Name List_Controle2: Listes!$A$2:$A$4
Name List_Mutualisation: Listes!$E$2:$E$3
Name List_RegimeInscription: Listes!$C$2:$C$3
Name List_Statut: Listes!$F$2:$F$4
Name list_typdiplome: Listes!$H$3:$H$4
Name List_Type: Listes!$G$2:$G$3
Name liste_cmp: #REF!
Name liste_cmp: #REF!
Name liste_cmp: #REF!
Name liste_cmp: #REF!
Name liste_mention: #REF!
Name liste_mention: #REF!
Name liste_mention: #REF!
Name liste_mention: #REF!
Name Médecine: #REF!
Name Médecine: #REF!
Name Médecine: #REF!
Name Médecine: #REF!
Name Por: #REF!
Name Por: #REF!
Name Por: #REF!
Name Por: #REF!
Name Portail_Droit: Listes!$A$11:$A$12
Name Portail_EG: Listes!$B$11:$B$12
Name Portail_LLAC: Listes!$D$11:$D$19
Name Portail_SHS: #REF!
Name Portail_SHS: #REF!
Name Portail_SHS: #REF!
Name Portail_SHS: Listes!$C$11:$C$22
Name Portail_ST: Listes!$E$11:$E$27
Name Portail_STAPS: Listes!$G$11:$G$14
Name Portail_SV: Listes!$F$11:$F$14
Name tab_code: #REF!
Name tab_code: #REF!
Name tab_code: #REF!
Name tab_code: #REF!
Name tab_code_dip: Listes!$J$1:$L$51

Sheet Listes
A1: Type contrôle | B1: Nature contrôle | C1: Régime d'inscription | D1: Nature ELP | E1: Mutualisation | F1: Statut | G1: Type | J1: Mention | K1: Codage Diplôme | L1: Codage double licence
A2: CCI (CC Intégral) | B2: Écrit | C2: Initiale Hors-Apprentissage / Formation Continue / Formation Permanente | D2: UE | E2: Porteuse | F2: Création | G2: Facultatif | H2: Type Diplôme | J2: Sciences de la Vie | K2: SLVIE18
A3: CT (Contrôle terminal) | B3: Oral | C3: Contrat d'Apprentissage/ Contrat de Professionnalisation | D3: ECUE | E3: Portée | F3: Modification | G3: Complémentaire | H3: Licence | J3: Droit | K3: DLDRT18
A4: CC&CT | B4: Écrit/Pratique | D4: BLOC | F4: Fermeture | H4: Double Licence | J4: Économie et gestion | K4: ILECG18
B5: Rapport/Mémoire | D5: OPTION | J5: Économie et gestion | K5: GLECG18
B6: Pratique sportive | D6: Parcours Pédagogique | J6: Information-communication | K6: HLICO18
J7: Arts du spectacle | K7: HLARS18
J8: Musicologie | K8: HLMUS18
J9: Lettres | K9: HLLET18
A10: Portail_Droit | B10: Portail_EG | C10: Portail_SHS | D10: Portail_LLAC | E10: Portail_ST | F10: Portail_SV | G10: Portail_STAPS | J10: Lettres étrangères appliquées (LEA) | K10: HLEAP18
A11: Droit | B11: Économie et gestion | C11: Sciences de l'homme, anthropologie, ethnologie | D11: Information-communication | E11: Sciences de la terre | F11: Sciences de la vie | G11: STAPS-Activité Physique Adaptée-Santé | J11: Langues, littératures et civilisations étrangères et régionales (LLCER) | K11: HLCER18
A12: Droit-Philosophie | B12: Économie-Sociologie | C12: Psychologie | D12: Arts du spectacle | E12: Sciences et technologies | F12: Sciences de la vie-Chimie | G12: STAPS-Education et Motricité | J12: Sciences de l'homme, anthropologie, ethnologie | K12: HLTSH18
C13: Histoire | D13: Musicologie | E13: Physique | F13: Sciences de la vie-Mathématiques | G13: STAPS-Entraînement Sportif | J13: Psychologie | K13: HLPSY18
C14: Sociologie | D14: Lettres | E14: Mathématiques | F14: Bio-Geo-Sciences | G14: STAPS-Management du Sport | J14: Sciences du langage | K14: HLNDL18
C15: Philosophie | D15: Lettres étrangères appliquées (LEA) | E15: Chimie | J15: Histoire | K15: HLHIS18
C16: Humanités | D16: Langues, littératures et civilisations étrangères et régionales (LLCER) | E16: Mathématiques et Informatique appliquées aux sciences humaines et sociales (MIASHS) | J16: Philosophie | K16: HLOPH18
C17: Géographie et aménagement | D17: Sciences du langage | E17: Electronique, énergie électrique, automatique (EEA) | J17: Sociologie | K17: HLSOC18
C18: Philosophie-Droit | D18: Lettres-Histoire | E18: Informatique | J18: Sciences de la terre | K18: SLTER18
C19: Psychologie-Philosophie | D19: Musicologie - Sciences de l'homme, anthropologie, ethnologie | E19: Sciences de la terre-Sciences de la vie | J19: Sciences et technologies | K19: SLSIT18
C20: Philosophie-Psychologie | E20: Physique-Mathématiques | J20: Chimie | K20: SLCHI18
C21: Histoire-Lettres | E21: Mathématiques-Physique | J21: Physique | K21: SLPHY18
C22: Sociologie-Économie | E22: Informatique-Mathématiques | J22: Mathématiques | K22: SLMAT18
E23: Mathématiques-Informatique | J23: Mathématiques et Informatique appliquées aux sciences humaines et sociales (MIASHS) | K23: SLASH18
E24: Chimie-Sciences de la vie | J24: Electronique, énergie électrique, automatique (EEA) | K24: SLELE18
E25: Sciences de la terre-Physique | J25: Informatique | K25: SLINF18
A26: CNU | E26: Physique-Sciences de la terre | J26: Géographie et aménagement | K26: SLGEO18
A27: 01-Droit privé et sciences criminelles | E27: Mathématiques-Sciences de la vie | J27: STAPS-Activité Physique Adaptée-Santé | K27: PLAPA18
A28: 02-Droit public | J28: STAPS-Education et Motricité | K28: PLEMO18
A29: 03-Histoire du droit et des institutions | J29: STAPS-Entraînement Sportif | K29: PLSES18
A30: 04-Science politique | J30: STAPS-Management du Sport | K30: PLMSP18
A31: 05-Sciences économiques | J31: Humanités | K31: HLBHU18
A32: 06-Sciences de gestion | J32: Sciences de la vie-Chimie | K32: SLVIE18 | L32: SLCHI18
A33: 07-Sciences du langage : linguistique et phonétique générales | F33: l | J33: Sciences de la vie-Mathématiques | K33: SLVIE18 | L33: SLMAT18
A34: 08-Langues et littératures anciennes | J34: Bio-Geo-Sciences | K34: SLVIE18 | L34: SLTER18
A35: 09-Langue et littérature françaises | J35: Sciences de la terre-Sciences de la vie | K35: SLTER18 | L35: SLVIE18
A36: 10-Littératures comparées | J36: Physique-Mathématiques | K36: SLPHY18 | L36: SLPHY18
A37: 11-Langues et littératures anglaises et anglo-saxonnes | J37: Mathématiques-Physique | K37: SLMAT18 | L37: SLMAT18
A38: 12-Langues et littératures germaniques et scandinaves | J38: Informatique-Mathématiques | K38: SLINF18 | L38: SLMAT18
A39: 13-Langues et littératures slaves | J39: Mathématiques-Informatique | K39: SLMAT18 | L39: SLINF18
A40: 14-Langues et littératures romanes : espagnol, italien, portugais, autres langues romanes | J40: Chimie-Sciences de la vie | K40: SLCHI18 | L40: SLVIE18
A41: 15-Langues et littératures arabes, chinoises, japonaises, hébraïques, d'autres domaines linguistiques | J41: Lettres-Histoire | K41: HLLET18 | L41: HLHIS18
A42: 16-Psychologie, psychologie clinique, psychologie sociale | J42: Musicologie - Sciences de l'homme, anthropologie, ethnologie | K42: HLTSH18
A43: 17-Philosophie | J43: Philosophie-Droit | K43: HLOPH18 | L43: DLDRT18
A44: 18-Architecture (ses théories et ses pratiques), arts appliqués, arts plastiques, arts du spectacle, épistémologie des enseignements artistiques, esthétique, musicologie, musique, sciences de l'art | J44: Psychologie-Philosophie | K44: HLPSY18 | L44: HLOPH18
A45: 19-Sociologie, démographie | J45: Philosophie-Psychologie | K45: HLOPH18 | L45: HLPSY18
A46: 20-Anthropologie biologique, ethnologie, préhistoire | J46: Histoire-Lettres | K46: HLHIS18 | L46: HLLET18
A47: 21-Histoire, civilisation, archéologie et art des mondes anciens et médiévaux | J47: Sociologie-Économie | K47: HLSOC18 | L47: ILECG18
A48: 22-Histoire et civilisations : histoire des mondes modernes, histoire du monde contemporain, de l'art, de la musique | J48: Économie-Sociologie | K48: ILECG18 | L48: HLSOC18
A49: 23-Géographie physique, humaine, économique et régionale | J49: Droit-Philosophie | K49: DLDRT18 | L49: HLOPH18
A50: 24-Aménagement de l'espace, urbanisme | J50: Sciences de la terre-Physique | K50: SLTER18 | L50: SLPHY18
A51: 25-Mathématiques | J51: Physique-Sciences de la terre | K51: SLPHY18 | L51: SLTER18
A52: 26-Mathématiques appliquées et applications des mathématiques | J52: Mathématiques-Sciences de la vie | K52: SLMAT18 | L52: SLVIE18
A53: 27-Informatique
A54: 28-Milieux denses et matériaux
A55: 29-Constituants élémentaires
A56: 30-Milieux dilués et optique
A57: 31-Chimie théorique, physique, analytique
A58: 32-Chimie organique, minérale, industrielle
A59: 33-Chimie des matériaux
A60: 34-Astronomie, astrophysique
A61: 35-Structure et évolution de la Terre et des autres planètes
A62: 36-Terre solide : géodynamique des enveloppes supérieures, paléo-biosphère
A63: 37-Météorologie, océanographie physique et physique de l'environnement
A64: 60-Mécanique, génie mécanique, génie civil
... A83: 87-Sciences biologiques pharmaceutiques

Sheet Calcul
A1: Heure Pédagogique | O1: Heure CM
A3: Semestre 5 | D3: Semestre 6 | O3: Semestre 5 | P3: Semestre 6
A4: Heure CM | B4: Heure TD | C4: Heure TP | D4: Heure CM | E4: Heure TD | F4: Heure TP | O4: ='S5 Maquette'!I19*1.5 -> 0 | P4: ='S6 Maquette'!I19*1.5 -> 0
A5: =SUM(O4:O291) -> 87 | B5: =SUM('S5 Maquette'!J19:J300) -> 158 | C5: =SUM('S5 Maquette'!K19:K300) -> 0 | D5: =SUM(P4:P291) -> 112.5 | E5: =SUM('S6 Maquette'!J19:J300) -> 141 | F5: =SUM('S6 Maquette'!K19:K300) -> 0 | O5: ='S5 Maquette'!I20*1.5 -> 0 | P5: ='S6 Maquette'!I20*1.5 -> 0
A6: Total | D6: Total | O6: ='S5 Maquette'!I21*1.5 -> 0 | P6: ='S6 Maquette'!I21*1.5 -> 0
A7: =SUM(A5,B5,C5) -> 245 | D7: =SUM(D5,E5,F5) -> 253.5 | O7: ='S5 Maquette'!I22*1.5 -> 0 | P7: ='S6 Maquette'!I22*1.5 -> 0
A8: Total | O8: ='S5 Maquette'!I23*1.5 -> 0 | P8: ='S6 Maquette'!I23*1.5 -> 0
O9: ='S5 Maquette'!I24*1.5 -> 15 | P9: ='S6 Maquette'!I24*1.5 -> 9
A10: =SUM(A7,D7) -> 498.5 | O10: ='S5 Maquette'!I25*1.5 -> 18 | P10: ='S6 Maquette'!I25*1.5 -> 4.5
O11: ='S5 Maquette'!I26*1.5 -> 0 | P11: ='S6 Maquette'!I26*1.5 -> 9
O12: ='S5 Maquette'!I27*1.5 -> 9 | P12: ='S6 Maquette'!I27*1.5 -> 0
O13: ='S5 Maquette'!I28*1.5 -> 9 | P13: ='S6 Maquette'!I28*1.5 -> 18
A14: Heure Porté par la maquette | H14: Mutualisation Porteuse | O14: ='S5 Maquette'!I29*1.5 -> 0 | P14: ='S6 Maquette'!I29*1.5 -> 18
O15: ='S5 Maquette'!I30*1.5 -> 9 | P15: ='S6 Maquette'!I30*1.5 -> 0
A16: Semestre 5 | D16: Semestre 6 | H16: Semestre 5 | K16: Semestre 6 | O16: ='S5 Maquette'!I31*1.5 -> 9 | P16: ='S6 Maquette'!I31*1.5 -> 9
A17: Heure CM | B17: Heure TD | C17: Heure TP | D17: Heure CM | E17: Heure TD | F17: Heure TP | H17: Heure CM | I17: Heure TD | J17: Heure TP | K17: Heure CM | L17: Heure TD | M17: Heure TP | O17: ='S5 Maquette'!I32*1.5 -> 0 | P17: ='S6 Maquette'!I32*1.5 -> 9
A18: =A5-H18 -> 87 | B18: =B5-I18 -> 158 | C18: =C5-J18 -> 0 | D18: =D5-K18 -> 112.5 | E18: =E5-L18 -> 141 | F18: =F5-M18 -> 0 | H18: =SUMIF('S5 Maquette'!M19:M300,"Portée",'S5 Maquette'!I19:I300)*1.5 -> 0 | I18: =SUMIF('S5 Maquette'!M19:M300,"Portée",'S5 Maquette'!J19:J300) -> 0 | J18: =SUMIF('S5 Maquette'!M19:M300,"Portée",'S5 Maquette'!K19:K300) -> 0 | K18: =SUMIF('S6 Maquette'!M19:M300,"Portée",'S6 Maquette'!I19:I300)*1.5 -> 0 | L18: =SUMIF('S6 Maquette'!M19:M300,"Portée",'S6 Maquette'!J19:J300) -> 0 | M18: =SUMIF('S6 Maquette'!M9:M300,"Portée",'S6 Maquette'!K19:K300) -> 0 | O18: ='S5 Maquette'!I33*1.5 -> 0 | P18: ='S6 Maquette'!I33*1.5 -> 9
A19: Total | D19: Total | O19: ='S5 Maquette'!I34*1.5 -> 18 | P19: ='S6 Maquette'!I34*1.5 -> 0
A20: =SUM(A18,B18,C18) -> 245 | D20: =SUM(D18,E18,F18) -> 253.5 | O20: ='S5 Maquette'!I35*1.5 -> 0 | P20: ='S6 Maquette'!I35*1.5 -> 12
A21: Total | O21: ='S5 Maquette'!I36*1.5 -> 0 | P21: ='S6 Maquette'!I36*1.5 -> 6
A22: =SUM(A20,D20) -> 498.5 | O22: ='S5 Maquette'!I37*1.5 -> 0 | P22: ='S6 Maquette'!I37*1.5 -> 9
O23: ='S5 Maquette'!I38*1.5 -> 0 | P23: ='S6 Maquette'!I38*1.5 -> 0
O24: ='S5 Maquette'!I39*1.5 -> 0 | P24: ='S6 Maquette'!I39*1.5 -> 0
O25: ='S5 Maquette'!I40*1.5 -> 0 | P25: ='S6 Maquette'!I40*1.5 -> 0
O26: ='S5 Maquette'!I41*1.5 -> 0 | P26: ='S6 Maquette'!I41*1.5 -> 0
O27: ='S5 Maquette'!I42*1.5 -> 0 | P27: ='S6 Maquette'!I42*1.5 -> 0
O28: ='S5 Maquette'!I43*1.5 -> 0 | P28: ='S6 Maquette'!I43*1.5 -> 0
O29: ='S5 Maquette'!I44*1.5 -> 0 | P29: ='S6 Maquette'!I44*1.5 -> 0
O30: ='S5 Maquette'!I45*1.5 -> 0 | P30: ='S6 Maquette'!I45*1.5 -> 0
O31: ='S5 Maquette'!I46*1.5 -> 0 | P31: ='S6 Maquette'!I46*1.5 -> 0
O32: ='S5 Maquette'!I47*1.5 -> 0 | P32: ='S6 Maquette'!I47*1.5 -> 0
O33: ='S5 Maquette'!I48*1.5 -> 0 | P33: ='S6 Maquette'!I48*1.5 -> 0
O34: ='S5 Maquette'!I49*1.5 -> 0 | P34: ='S6 Maquette'!I49*1.5 -> 0
... O291: ='S5 Maquette'!I306*1.5 -> 0 | P291: ='S6 Maquette'!I306*1.5 -> 0

Sheet Fiche Générale
A1: Type Diplôme : Licence & Double Licence 3ème année
A2: Type diplôme | B2: Licence | C2: SOPHIA
A3: COMPOSANTE | B3: Portail_ST
A4: MENTION | B4: Sciences et technologies
A5: CODE DIPLÔME | B5: SLSIT24
A6: Régime d'inscription | B6: Initiale Hors-Apprentissage / Formation Continue / Formation Permanente
A8: Parcours Type en L3
A9: Parcours Type | B9: Intelligence Artificielle
A11: Heures Maquette | C11: Heures Valorisées
A13: =Calcul!A10 -> 498.5 | C13: =Calcul!A22 -> 498.5
A18: COMPENSATION
A19: Les MCC déterminent le mode de compensation entre UE, semestre et année ainsi que la possibilité d’une note éliminatoire.
A20: Obtention des UE
A21: Compensation entre ECUE d'une UE
A24: Obtention du semestre
A25: Compensation des UE dans le semestre
A28: Obtention de l'Année
A29: Compensation entre les semestres. Validation de l'année >=10
A32: Note éliminatoire/ Note seuil
A33: Toutes les UE font l'objet d'une note éliminatoire fixée à 7/20 à l'exception des UE « Compétences Transversales portail ST »
A36: REDOUBLEMENT
A37: Redoublement autorisé
... A41: Arrêté du 22 janvier 2014 fixant le cadre national des formations conduisant à la délivrance des diplômes nationaux de licence, de licence professionnelle et de master

Sheet S5 Maquette
A7: Composante | B7: ='Fiche Générale'!B3 -> Portail_ST | C7: Diplôme | E7: ='Fiche Générale'!B4 -> Sciences et technologies | G7: Code diplôme | H7: ='Fiche Générale'!B5 -> SLSIT24
C10: Parcours type | E10: ='Fiche Générale'!B9 -> Intelligence Artificielle
A13: Année | B13: 3 ème Année de Licence | C13: Code année | E13: SLIAR3 | G13: Heures Maquette | H13: =Calcul!A7 -> 245
A15: Semestre | B15: Semestre 5 | C15: Code semestre | E15: SLS05IA | G15: Heures Valorisées | H15: =Calcul!A20 -> 245
A18: Niveau | B18: Libellé ELP | C18: Nature ELP | D18: ECTS | E18: Type | F18: Statut | G18: Code Apogée | H18: CNU | I18: Heure CM | J18: Heure TD | K18: Heure TP | L18: Langues | M18: Mutualisation | N18: Formation Porteuse | O18: Observations / Remarques ex: Intervention à titre gracieux / Capacité d'accueil max
A19: 0 | B19: UE Competences transversales 5 | C19: UE | D19: 6
A20: 0.1 | B20: Competences numeriques 3 | C20: ECUE
A21: 0.2 | B21: Competences informationnelles 3 | C21: ECUE
A22: 0.3 | B22: Anglais 5 | C22: ECUE
A23: 1 | B23: Apprentissage automatique | C23: UE | D23: 6 | G23: SLUI500 | H23: 27-Informatique | M23: Porteuse
A24: 1.1 | B24: Bases de l'apprentissage automatique | C24: ECUE | G24: SLEI500 | H24: 27-Informatique | I24: 10 | J24: 10 | M24: Porteuse
A25: 1.2 | B25: Méthodes d'apprentissage | C25: ECUE | G25: SLEI501 | H25: 27-Informatique | I25: 12 | J25: 22 | M25: Porteuse
A26: 2 | B26: Gestion des données | C26: UE | D26: 6 | G26: SLUI501 | H26: 27-Informatique | M26: Porteuse
A27: 2.1 | B27: Introduction à l'informatique décisionnelle | C27: ECUE | G27: SLEI502 | H27: 27-Informatique | I27: 6 | J27: 21 | M27: Porteuse
A28: 2.2 | B28: Introduction à la gestion des masses de données | C28: ECUE | G28: SLEI503 | H28: 27-Informatique | I28: 6 | J28: 21 | M28: Porteuse
A29: 3 | B29: Programmation | C29: UE | D29: 6 | G29: SLUI502 | H29: 27-Informatique | M29: Porteuse
A30: 3.1 | B30: Conception et programmation orientée objet | C30: ECUE | G30: SLEI504 | H30: 27-Informatique | I30: 6 | J30: 21 | M30: Porteuse
A31: 3.2 | B31: Langage Python pour l'IA | C31: ECUE | G31: SLEI505 | H31: 27-Informatique | I31: 6 | J31: 21 | M31: Porteuse
A32: 4 | B32: Statistiques | C32: UE | D32: 6 | G32: SLUI503 | H32: 26-Mathématiques appliquées et applications des mathématiques | M32: Porteuse
A33: 4.1 | B33: Langage R pour l'IA | C33: ECUE | G33: SLEI506 | H33: 27-Informatique | J33: 27 | M33: Porteuse
A34: 4.2 | B34: Statistiques pour l'IA | C34: ECUE | G34: SLEI507 | H34: 26-Mathématiques appliquées et applications des mathématiques | I34: 12 | J34: 15 | M34: Porteuse
A35: 5 | B35: UE Stage | C35: UE | D35: 0 | E35: Facultatif | F35: Création | G35: SLUSTF5 | M35: Porteuse | O35: Cet élément dans la maquette permet aux étudiants d'effectuer un stage de mise en situation en milieu professionnel. Ce stage sera réalisé à l’initiative de l’étudiant, sous réserve d’obtenir l’autorisation du responsable d’année de formation qui s’assurera de la plus-value de ce stage au regard de la formation. Il ne contribuera pas à la validation du cursus mais pourra être valorisé dans le supplément au diplôme.

Sheet S5 MCC
A7: Composante | B7: ='Fiche Générale'!B3 -> Portail_ST | C7: Diplôme | E7: ='Fiche Générale'!B4 -> Sciences et technologies | G7: Code diplôme | H7: ='Fiche Générale'!B5 -> SLSIT24
C10: Parcours type | E10: ='Fiche Générale'!B9 -> Intelligence Artificielle
M12: 1ère session | R12: Seconde Chance
A13: Année | B13: ='S5 Maquette'!B13:B14 -> 3 ème Année de Licence | D13: Code Année | E13: ='S5 Maquette'!E13:F14 -> SLIAR3
M14: Contrôle continu | N14: Contrôle Terminal | P14: Contrôle Final (en cas de dispense d'assiduité)
A15: Semestre | B15: ='S5 Maquette'!B15:B16 -> Semestre 5 | D15: Code Semestre | E15: ='S5 Maquette'!E15:F16 -> SLS05IA
A18: Libellé | B18: Nature | C18: Statut | D18: Coefficient | E18: Notes attendues | F18: Résultat attendu: (ACQ/AJ) | G18: Conservation note | H18: Capitalisable | I18: Compensable | J18: Seuil de compensation /20 | K18: Type de contrôle | L18: Si CC&CT coef du CT | M18: Nbre d'évalution minimum | N18: Nature | O18: Durée | P18: Nature | Q18: Durée | R18: Format d'évaluation | S18: Nature | T18: Durée | U18: Modalités de mise en œuvre | V18: Commentaires
A19: ='S5 Maquette'!B19 -> UE Competences transversales 5 | B19: ='S5 Maquette'!C19 -> UE | C19: ='S5 Maquette'!F19 -> 0
A20: ='S5 Maquette'!B20 -> Competences numeriques 3 | B20: ='S5 Maquette'!C20 -> ECUE | C20: ='S5 Maquette'!F20 -> 0
A21: ='S5 Maquette'!B21 -> Competences informationnelles 3 | B21: ='S5 Maquette'!C21 -> ECUE | C21: ='S5 Maquette'!F21 -> 0
A22: ='S5 Maquette'!B22 -> Anglais 5 | B22: ='S5 Maquette'!C22 -> ECUE | C22: ='S5 Maquette'!F22 -> 0
A23: ='S5 Maquette'!B23 -> Apprentissage automatique | B23: ='S5 Maquette'!C23 -> UE | D23: 6 | E23: OUI | F23: OUI | G23: NON | H23: OUI | I23: OUI | J23: 7
A24: ='S5 Maquette'!B24 -> Bases de l'apprentissage automatique | B24: ='S5 Maquette'!C24 -> ECUE | D24: 2 | E24: OUI | F24: OUI | G24: NON | H24: OUI | I24: OUI | J24: 7 | K24: CCI (CC Intégral) | M24: 2 | P24: Écrit | Q24: 1.5 | R24: CT (Contrôle terminal) | S24: Écrit | T24: 1,5 | V24: La note obtenue en seconde chance remplace la note de session 1. Si non épreuve non rattrapée en seconde chance, conservation de la note de session 1
A25: ='S5 Maquette'!B25 -> Méthodes d'apprentissage | B25: ='S5 Maquette'!C25 -> ECUE | C25: ='S5 Maquette'!F25 -> 0 | D25: 4 | E25: OUI | F25: OUI | G25: NON | H25: OUI | I25: OUI | J25: 7 | K25: CCI (CC Intégral) | M25: 2 | P25: Écrit | Q25: 1.5 | R25: CT (Contrôle terminal) | S25: Écrit | T25: 1,5 | V25: La note obtenue en seconde chance remplace la note de session 1. Si non épreuve non rattrapée en seconde chance, conservation de la note de session 1
A26: ='S5 Maquette'!B26 -> Gestion des données | B26: ='S5 Maquette'!C26 -> UE | C26: ='S5 Maquette'!F26 -> 0 | D26: 6 | E26: OUI | F26: OUI | G26: NON | H26: OUI | I26: OUI | J26: 7
A27: ='S5 Maquette'!B27 -> Introduction à l'informatique décisionnelle | B27: ='S5 Maquette'!C27 -> ECUE | C27: ='S5 Maquette'!F27 -> 0 | D27: 3 | E27: OUI | F27: OUI | G27: NON | H27: OUI | I27: OUI | J27: 7 | K27: CCI (CC Intégral) | M27: 2 | P27: Écrit | Q27: 1.5 | R27: CT (Contrôle terminal) | S27: Écrit | T27: 1,5 | V27: La note obtenue en seconde chance remplace la note de session 1. Si non épreuve non rattrapée en seconde chance, conservation de la note de session 1
A28: ='S5 Maquette'!B28 -> Introduction à la gestion des masses de données | B28: ='S5 Maquette'!C28 -> ECUE | C28: ='S5 Maquette'!F28 -> 0 | D28: 3 | E28: OUI | F28: OUI | G28: NON | H28: OUI | I28: OUI | J28: 7 | K28: CCI (CC Intégral) | M28: 2 | P28: Écrit | Q28: 1.5 | R28: CT (Contrôle terminal) | S28: Écrit | T28: 1,5 | V28: La note obtenue en seconde chance remplace la note de session 1. Si non épreuve non rattrapée en seconde chance, conservation de la note de session 1
A29: ='S5 Maquette'!B29 -> Programmation | B29: ='S5 Maquette'!C29 -> UE | C29: ='S5 Maquette'!F29 -> 0 | D29: 6 | E29: OUI | F29: OUI | G29: NON | H29: OUI | I29: OUI | J29: 7
A30: ='S5 Maquette'!B30 -> Conception et programmation orientée objet | B30: ='S5 Maquette'!C30 -> ECUE | C30: ='S5 Maquette'!F30 -> 0 | D30: 3 | E30: OUI | F30: OUI | G30: NON | H30: OUI | I30: OUI | J30: 7 | K30: CCI (CC Intégral) | M30: 2 | P30: Écrit | Q30: 1.5 | R30: CT (Contrôle terminal) | S30: Écrit | T30: 1,5 | V30: La note obtenue en seconde chance remplace la note de session 1. Si non épreuve non rattrapée en seconde chance, conservation de la note de session 1
A31: ='S5 Maquette'!B31 -> Langage Python pour l'IA | B31: ='S5 Maquette'!C31 -> ECUE | C31: ='S5 Maquette'!F31 -> 0 | D31: 3 | E31: OUI | F31: OUI | G31: NON | H31: OUI | I31: OUI | J31: 7 | K31: CCI (CC Intégral) | M31: 2 | P31: Écrit | Q31: 1.5 | R31: CT (Contrôle terminal) | S31: Écrit | T31: 1,5 | V31: La note obtenue en seconde chance remplace la note de session 1. Si non épreuve non rattrapée en seconde chance, conservation de la note de session 1
A32: ='S5 Maquette'!B32 -> Statistiques | B32: ='S5 Maquette'!C32 -> UE | C32: ='S5 Maquette'!F32 -> 0 | D32: 6 | E32: OUI | F32: OUI | G32: NON | H32: OUI | I32: OUI | J32: 7
A33: ='S5 Maquette'!B33 -> Langage R pour l'IA | B33: ='S5 Maquette'!C33 -> ECUE | C33: ='S5 Maquette'!F33 -> 0 | D33: 3 | E33: OUI | F33: OUI | G33: NON | H33: OUI | I33: OUI | J33: 7 | K33: CCI (CC Intégral) | M33: 2 | P33: Écrit | Q33: 1.5 | R33: CT (Contrôle terminal) | S33: Écrit | T33: 1,5 | V33: La note obtenue en seconde chance remplace la note de session 1. Si non épreuve non rattrapée en seconde chance, conservation de la note de session 1
A34: ='S5 Maquette'!B34 -> Statistiques pour l'IA | B34: ='S5 Maquette'!C34 -> ECUE | C34: ='S5 Maquette'!F34 -> 0 | D34: 3 | E34: OUI | F34: OUI | G34: NON | H34: OUI | I34: OUI | J34: 7 | K34: CCI (CC Intégral) | M34: 2 | P34: Écrit | Q34: 1.5 | R34: CT (Contrôle terminal) | S34: Écrit | T34: 1,5 | V34: La note obtenue en seconde chance remplace la note de session 1. Si non épreuve non rattrapée en seconde chance, conservation de la note de session 1
A35: ='S5 Maquette'!B35 -> UE Stage | B35: ='S5 Maquette'!C35 -> UE | C35: ='S5 Maquette'!F35 -> Création
A36: ='S5 Maquette'!B36 -> 0 | B36: ='S5 Maquette'!C36 -> 0 | C36: ='S5 Maquette'!F36 -> 0
A37: ='S5 Maquette'!B37 -> 0 | B37: ='S5 Maquette'!C37 -> 0 | C37: ='S5 Maquette'!F37 -> 0
A38: ='S5 Maquette'!B38 -> 0 | B38: ='S5 Maquette'!C38 -> 0 | C38: ='S5 Maquette'!F38 -> 0
A39: ='S5 Maquette'!B39 -> 0 | B39: ='S5 Maquette'!C39 -> 0 | C39: ='S5 Maquette'!F39 -> 0
A40: ='S5 Maquette'!B40 -> 0 | B40: ='S5 Maquette'!C40 -> 0 | C40: ='S5 Maquette'!F40 -> 0
A41: ='S5 Maquette'!B41 -> 0 | B41: ='S5 Maquette'!C41 -> 0 | C41: ='S5 Maquette'!F41 -> 0
A42: ='S5 Maquette'!B42 -> 0 | B42: ='S5 Maquette'!C42 -> 0 | C42: ='S5 Maquette'!F42 -> 0
A43: ='S5 Maquette'!B43 -> 0 | B43: ='S5 Maquette'!C43 -> 0 | C43: ='S5 Maquette'!F43 -> 0
A44: ='S5 Maquette'!B44 -> 0 | B44: ='S5 Maquette'!C44 -> 0 | C44: ='S5 Maquette'!F44 -> 0
A45: ='S5 Maquette'!B45 -> 0 | B45: ='S5 Maquette'!C45 -> 0 | C45: ='S5 Maquette'!F45 -> 0
A46: ='S5 Maquette'!B46 -> 0 | B46: ='S5 Maquette'!C46 -> 0 | C46: ='S5 Maquette'!F46 -> 0
... A300: ='S5 Maquette'!B300 -> 0 | B300: ='S5 Maquette'!C300 -> 0 | C300: ='S5 Maquette'!F300 -> 0

Sheet S6 Maquette
A7: Composante | B7: ='Fiche Générale'!B3 -> Portail_ST | C7: Diplôme | E7: ='Fiche Générale'!B4 -> Sciences et technologies | G7: Code diplôme | H7: ='Fiche Générale'!B5 -> SLSIT24
C10: Parcours type | E10: ='Fiche Générale'!B9 -> Intelligence Artificielle
A13: Année | B13: ='S5 Maquette'!B13:B14 -> 3 ème Année de Licence | C13: Code année | E13: ='S5 Maquette'!E13:F14 -> SLIAR3 | G13: Heures Maquette | H13: =Calcul!D7 -> 253.5
A15: Semestre | B15: Semestre 6 | C15: Code semestre | E15: SLS06IA | G15: Heures Valorisées | H15: =Calcul!D20 -> 253.5
A18: Niveau | B18: Libellé ELP | C18: Nature ELP | D18: ECTS | E18: Type | F18: Statut | G18: Code Apogée | H18: CNU | I18: Heure CM | J18: Heure TD | K18: Heure TP | L18: Langues | M18: Mutualisation | N18: Formation Porteuse | O18: Observations / Remarques ex: Intervention à titre gracieux / Capacité d'accueil max
A19: 0 | B19: UE Competences transversales 6 | C19: UE | D19: 6
A20: 0.1 | B20: Competences numeriques 3 | C20: ECUE
A21: 0.2 | B21: Competences informationnelles 3 | C21: ECUE
A22: 0.3 | B22: Anglais 6 | C22: ECUE
A23: 1 | B23: IA et ses applications | C23: UE | D23: 6 | G23: SLUI600 | H23: 27-Informatique | M23: Porteuse
A24: 1.1 | B24: IA et médecin IA Application 1 | C24: ECUE | F24: Modification | G24: SLEI600 SLEI611 | H24: 27-Informatique | I24: 6 | J24: 14 | M24: Porteuse
A25: 1.2 | B25: IA et robotique IA Application 2 | C25: ECUE | F25: Modification | G25: SLEI601 SLEI612 | H25: 27-Informatique | I25: 3 | J25: 4 | M25: Porteuse
A26: 1.3 | B26: IA et visualisation, objets connectés IA Application 3 | C26: ECUE | F26: Modification | G26: SLEI602 SLEI613 | H26: 27-Informatique | I26: 6 | J26: 21 | M26: Porteuse
A27: 2 | B27: Informatique fondamentale | C27: UE | D27: 6 | G27: SLUI601 | H27: 27-Informatique | M27: Porteuse
A28: 2.1 | B28: Algorithmique | C28: ECUE | G28: SLEI603 | H28: 27-Informatique | I28: 12 | J28: 15 | M28: Porteuse
A29: 2.2 | B29: Langages et compilation | C29: ECUE | G29: SLEI604 | H29: 27-Informatique | I29: 12 | J29: 15 | M29: Porteuse
A30: 3 | B30: Planification et optimisation | C30: UE | D30: 6 | G30: SLUI602 | H30: 27-Informatique | M30: Porteuse
A31: 3.1 | B31: Algorithmes bio-inspirés | C31: ECUE | G31: SLEI605 | H31: 27-Informatique | I31: 6 | J31: 12 | M31: Porteuse
A32: 3.2 | B32: Planification | C32: ECUE | G32: SLEI606 | H32: 27-Informatique | I32: 6 | J32: 12 | M32: Porteuse
A33: 3.3 | B33: Recherche heuristique Ingénierie et Industrialisation de L'IA, MLOps | C33: ECUE | F33: Modification | G33: SLEI607 SLEI614 | H33: 27-Informatique | I33: 6 | J33: 12 | M33: Porteuse
A34: 4 | B34: Représentation des connaissances, raisonnement et langage | C34: UE | D34: 6 | G34: SLUI603 | H34: 27-Informatique | M34: Porteuse
A35: 4.1 | B35: Agents intelligents | C35: ECUE | G35: SLEI608 | H35: 27-Informatique | I35: 8 | J35: 16 | M35: Porteuse
A36: 4.2 | B36: Introduction à l'argumentation | C36: ECUE | G36: SLEI609 | H36: 27-Informatique | I36: 4 | J36: 4 | M36: Porteuse
A37: 4.3 | B37: Traitement du langage naturel | C37: ECUE | G37: SLEI610 | H37: 27-Informatique | I37: 6 | J37: 16 | M37: Porteuse
A38: 5 | B38: UE Stage | C38: UE | D38: 0 | E38: Facultatif | F38: Création | G38: SLUSTF6 | M38: Porteuse | O38: Cet élément dans la maquette permet aux étudiants d'effectuer un stage de mise en situation en milieu professionnel. Ce stage sera réalisé à l’initiative de l’étudiant, sous réserve d’obtenir l’autorisation du responsable d’année de formation qui s’assurera de la plus-value de ce stage au regard de la formation. Il ne contribuera pas à la validation du cursus mais pourra être valorisé dans le supplément au diplôme.

Sheet S6 MCC
A7: Composante | B7: ='Fiche Générale'!B3 -> Portail_ST | C7: Diplôme | E7: ='Fiche Générale'!B4 -> Sciences et technologies | G7: Code diplôme | H7: ='Fiche Générale'!B5 -> SLSIT24
C10: Parcours type | E10: ='Fiche Générale'!B9 -> Intelligence Artificielle
M12: 1ère session | R12: Seconde Chance
A13: Année | B13: ='S6 Maquette'!B13:B14 -> 3 ème Année de Licence | D13: Code Année | E13: ='S6 Maquette'!E13:F14 -> SLIAR3
M14: Contrôle continu | N14: Contrôle Terminal | P14: Contrôle Final (en cas de dispense d'assiduité)
A15: Semestre | B15: ='S6 Maquette'!B15:B16 -> Semestre 6 | D15: Code Semestre | E15: ='S6 Maquette'!E15:F16 -> SLS06IA
A18: Libellé | B18: Nature | C18: Statut | D18: Coefficient | E18: Notes attendues | F18: Résultat attendu: (ACQ/AJ) | G18: Conservation note | H18: Capitalisable | I18: Compensable | J18: Seuil de compensation /20 | K18: Type de contrôle | L18: Si CC&CT coef du CT | M18: Nbre d'évalution minimum | N18: Nature | O18: Durée | P18: Nature | Q18: Durée | R18: Format d'évaluation | S18: Nature | T18: Durée | U18: Modalités de mise en œuvre | V18: Commentaires
A19: ='S6 Maquette'!B19 -> UE Competences transversales 6 | B19: ='S6 Maquette'!C19 -> UE | C19: ='S6 Maquette'!F19 -> 0
A20: ='S6 Maquette'!B20 -> Competences numeriques 3 | B20: ='S6 Maquette'!C20 -> ECUE | C20: ='S6 Maquette'!F20 -> 0
A21: ='S6 Maquette'!B21 -> Competences informationnelles 3 | B21: ='S6 Maquette'!C21 -> ECUE | C21: ='S6 Maquette'!F21 -> 0
A22: ='S6 Maquette'!B22 -> Anglais 6 | B22: ='S6 Maquette'!C22 -> ECUE | C22: ='S6 Maquette'!F22 -> 0
A23: ='S6 Maquette'!B23 -> IA et ses applications | B23: ='S6 Maquette'!C23 -> UE | D23: 6 | E23: OUI | F23: OUI | G23: NON | H23: OUI | I23: OUI | J23: 7 | K23: CCI (CC Intégral)
A24: ='S6 Maquette'!B24 -> IA et médecin IA Application 1 | B24: ='S6 Maquette'!C24 -> ECUE | D24: 2 | E24: OUI | F24: OUI | G24: NON | H24: OUI | I24: OUI | J24: 7 | K24: CCI (CC Intégral) | M24: 2 | P24: Écrit | Q24: 1,5 | R24: CT (Contrôle terminal) | S24: Écrit | T24: 1,5 | V24: La note obtenue en seconde chance remplace la note de session 1. Si non épreuve non rattrapée en seconde chance, conservation de la note de session 1
A25: ='S6 Maquette'!B25 -> IA et robotique IA Application 2 | B25: ='S6 Maquette'!C25 -> ECUE | D25: 1 | E25: OUI | F25: OUI | G25: NON | H25: OUI | I25: OUI | J25: 7 | K25: CCI (CC Intégral) | M25: 2 | P25: Écrit | Q25: 1,5 | R25: CT (Contrôle terminal) | S25: Écrit | T25: 1,5 | V25: La note obtenue en seconde chance remplace la note de session 1. Si non épreuve non rattrapée en seconde chance, conservation de la note de session 1
A26: ='S6 Maquette'!B26 -> IA et visualisation, objets connectés IA Application 3 | B26: ='S6 Maquette'!C26 -> ECUE | D26: 3 | E26: OUI | F26: OUI | G26: NON | H26: OUI | I26: OUI | J26: 7 | K26: CCI (CC Intégral) | M26: 2 | P26: Écrit | Q26: 1,5 | R26: CT (Contrôle terminal) | S26: Écrit | T26: 1,5 | V26: La note obtenue en seconde chance remplace la note de session 1. Si non épreuve non rattrapée en seconde chance, conservation de la note de session 1
A27: ='S6 Maquette'!B27 -> Informatique fondamentale | B27: ='S6 Maquette'!C27 -> UE | D27: 6 | E27: OUI | F27: OUI | G27: NON | H27: OUI | I27: OUI | J27: 7
A28: ='S6 Maquette'!B28 -> Algorithmique | B28: ='S6 Maquette'!C28 -> ECUE | D28: 3 | E28: OUI | F28: OUI | G28: NON | H28: OUI | I28: OUI | J28: 7 | K28: CCI (CC Intégral) | M28: 2 | P28: Écrit | Q28: 1,5 | R28: CT (Contrôle terminal) | S28: Écrit | T28: 1,5 | V28: La note obtenue en seconde chance remplace la note de session 1. Si non épreuve non rattrapée en seconde chance, conservation de la note de session 1
A29: ='S6 Maquette'!B29 -> Langages et compilation | B29: ='S6 Maquette'!C29 -> ECUE | D29: 3 | E29: OUI | F29: OUI | G29: NON | H29: OUI | I29: OUI | J29: 7 | K29: CCI (CC Intégral) | M29: 2 | P29: Écrit | Q29: 1,5 | R29: CT (Contrôle terminal) | S29: Écrit | T29: 1,5 | V29: La note obtenue en seconde chance remplace la note de session 1. Si non épreuve non rattrapée en seconde chance, conservation de la note de session 1
A30: ='S6 Maquette'!B30 -> Planification et optimisation | B30: ='S6 Maquette'!C30 -> UE | D30: 6 | E30: OUI | F30: OUI | G30: NON | H30: OUI | I30: OUI | J30: 7
A31: ='S6 Maquette'!B31 -> Algorithmes bio-inspirés | B31: ='S6 Maquette'!C31 -> ECUE | D31: 2 | E31: OUI | F31: OUI | G31: NON | H31: OUI | I31: OUI | J31: 7 | K31: CCI (CC Intégral) | M31: 2 | P31: Écrit | Q31: 1,5 | R31: CT (Contrôle terminal) | S31: Écrit | T31: 1,5 | V31: La note obtenue en seconde chance remplace la note de session 1. Si non épreuve non rattrapée en seconde chance, conservation de la note de session 1
A32: ='S6 Maquette'!B32 -> Planification | B32: ='S6 Maquette'!C32 -> ECUE | D32: 2 | E32: OUI | F32: OUI | G32: NON | H32: OUI | I32: OUI | J32: 7 | K32: CCI (CC Intégral) | M32: 2 | P32: Écrit | Q32: 1,5 | R32: CT (Contrôle terminal) | S32: Écrit | T32: 1,5 | V32: La note obtenue en seconde chance remplace la note de session 1. Si non épreuve non rattrapée en seconde chance, conservation de la note de session 1
A33: ='S6 Maquette'!B33 -> Recherche heuristique Ingénierie et Industrialisation de L'IA, MLOps | B33: ='S6 Maquette'!C33 -> ECUE | D33: 2 | E33: OUI | F33: OUI | G33: NON | H33: OUI | I33: OUI | J33: 7 | K33: CCI (CC Intégral) | M33: 2 | P33: Écrit | Q33: 1,5 | R33: CT (Contrôle terminal) | S33: Écrit | T33: 1,5 | V33: La note obtenue en seconde chance remplace la note de session 1. Si non épreuve non rattrapée en seconde chance, conservation de la note de session 1
A34: ='S6 Maquette'!B34 -> Représentation des connaissances, raisonnement et langage | B34: ='S6 Maquette'!C34 -> UE | D34: 6 | E34: OUI | F34: OUI | G34: NON | H34: OUI | I34: OUI | J34: 7
A35: ='S6 Maquette'!B35 -> Agents intelligents | B35: ='S6 Maquette'!C35 -> ECUE | D35: 2,5 | E35: OUI | F35: OUI | G35: NON | H35: OUI | I35: OUI | J35: 7 | K35: CCI (CC Intégral) | M35: 2 | P35: Écrit | Q35: 1,5 | R35: CT (Contrôle terminal) | S35: Écrit | T35: 1,5 | V35: La note obtenue en seconde chance remplace la note de session 1. Si non épreuve non rattrapée en seconde chance, conservation de la note de session 1
A36: ='S6 Maquette'!B36 -> Introduction à l'argumentation | B36: ='S6 Maquette'!C36 -> ECUE | D36: 1 | E36: OUI | F36: OUI | G36: NON | H36: OUI | I36: OUI | J36: 7 | K36: CCI (CC Intégral) | M36: 2 | P36: Écrit | Q36: 1,5 | R36: CT (Contrôle terminal) | S36: Écrit | T36: 1,5 | V36: La note obtenue en seconde chance remplace la note de session 1. Si non épreuve non rattrapée en seconde chance, conservation de la note de session 1
A37: ='S6 Maquette'!B37 -> Traitement du langage naturel | B37: ='S6 Maquette'!C37 -> ECUE | D37: 2,5 | E37: OUI | F37: OUI | G37: NON | H37: OUI | I37: OUI | J37: 7 | K37: CCI (CC Intégral) | M37: 2 | P37: Écrit | Q37: 1,5 | R37: CT (Contrôle terminal) | S37: Écrit | T37: 1,5 | V37: La note obtenue en seconde chance remplace la note de session 1. Si non épreuve non rattrapée en seconde chance, conservation de la note de session 1
A38: ='S6 Maquette'!B38 -> UE Stage | B38: ='S6 Maquette'!C38 -> UE | C38: ='S6 Maquette'!F38 -> Création
A39: ='S6 Maquette'!B39 -> 0 | B39: ='S6 Maquette'!C39 -> 0 | C39: ='S6 Maquette'!F39 -> 0
A40: ='S6 Maquette'!B40 -> 0 | C40: ='S6 Maquette'!F40 -> 0
A41: ='S6 Maquette'!B41 -> 0 | B41: ='S6 Maquette'!C41 -> 0 | C41: ='S6 Maquette'!F41 -> 0
A42: ='S6 Maquette'!B42 -> 0 | B42: ='S6 Maquette'!C42 -> 0 | C42: ='S6 Maquette'!F42 -> 0
A43: ='S6 Maquette'!B43 -> 0 | B43: ='S6 Maquette'!C43 -> 0 | C43: ='S6 Maquette'!F43 -> 0
A44: ='S6 Maquette'!B44 -> 0 | B44: ='S6 Maquette'!C44 -> 0 | C44: ='S6 Maquette'!F44 -> 0
A45: ='S6 Maquette'!B45 -> 0 | B45: ='S6 Maquette'!C45 -> 0 | C45: ='S6 Maquette'!F45 -> 0
A46: ='S6 Maquette'!B46 -> 0 | B46: ='S6 Maquette'!C46 -> 0 | C46: ='S6 Maquette'!F46 -> 0
A47: ='S6 Maquette'!B47 -> 0 | B47: ='S6 Maquette'!C47 -> 0 | C47: ='S6 Maquette'!F47 -> 0
A48: ='S6 Maquette'!B48 -> 0 | B48: ='S6 Maquette'!C48 -> 0 | C48: ='S6 Maquette'!F48 -> 0
A49: ='S6 Maquette'!B49 -> 0 | B49: ='S6 Maquette'!C49 -> 0 | C49: ='S6 Maquette'!F49 -> 0
A50: ='S6 Maquette'!B50 -> 0 | B50: ='S6 Maquette'!C50 -> 0 | C50: ='S6 Maquette'!F50 -> 0
A51: ='S6 Maquette'!B51 -> 0 | B51: ='S6 Maquette'!C51 -> 0 | C51: ='S6 Maquette'!F51 -> 0
A52: ='S6 Maquette'!B52 -> 0 | B52: ='S6 Maquette'!C52 -> 0 | C52: ='S6 Maquette'!F52 -> 0
... A300: ='S6 Maquette'!B300 -> 0 | B300: ='S6 Maquette'!C300 -> 0 | C300: ='S6 Maquette'!F300 -> 0
